BEGIN:VCALENDAR
VERSION:2.0
PRODID:-//wp-events-plugin.com//7.2.3.1//EN
TZID:Europe/Warsaw
X-WR-TIMEZONE:Europe/Warsaw
BEGIN:VEVENT
UID:18930@night4u.pl
DTSTART;TZID=Europe/Warsaw:20190621T210000
DTEND;TZID=Europe/Warsaw:20190622T040000
DTSTAMP:20190611T140027Z
URL:https://night4u.pl/wydarzenia/21-06-piatki-na-piatke/
SUMMARY:21.06 - Piątki Na Piątkę
DESCRIPTION:21.06 - PIĄTKI NA PIĄTKĘ\n\nZapraszamy w sezonie letnim na n
 asz cykl piątkowych imprez: piątki na piątkę. O co chodzi? Już tłuma
 czymy. Przez całą noc: whisky\, wódka oraz piwo w cenie 5 PLN. Do godzi
 ny 23:00 wstęp do klubu również za 5 PLN. Piątki na piątkę\, robimy 
 to bardzo dobrze! :)\n\nImprezy nakręcą nasi zawodowcy:\n\ngłówna: DJ 
 ALEX LIGHT\nexclusive: DJ DREAM\n\nStart: 21:00\nWstęp: 5 PLN do godziny 
 23:00\, później 10 PLN\n\nLajkujcie nas i odwiedzajcie na:\nwww.facebook
 .com/bajkadiscoclubrzeszow\nwww.bajkadiscoclub.pl\n\nBAJKA DISCO CLUB\nRze
 szów\, Ul. Piłsudskiego 34.
ATTACH;FMTTYPE=image/jpeg:https://night4u.pl/wp-content/uploads/2019/06/45
 793_image_62345264_2257976084289567_5425477712795926528_o.jpg
CATEGORIES:podkarpackie
LOCATION:BAJKA DISCO CLUB Rzeszów\, Ul. Piłsudskiego 34\, Rzeszów\, 35-0
 01\, Poland
GEO:50.041268;22.003453
X-APPLE-STRUCTURED-LOCATION;VALUE=URI;X-ADDRESS=Ul. Piłsudskiego 34\, Rzes
 zów\, 35-001\, Poland;X-APPLE-RADIUS=100;X-TITLE=BAJKA DISCO CLUB Rzeszó
 w:geo:50.041268,22.003453
END:VEVENT
BEGIN:VTIMEZONE
TZID:Europe/Warsaw
X-LIC-LOCATION:Europe/Warsaw
BEGIN:DAYLIGHT
DTSTART:20190331T030000
TZOFFSETFROM:+0100
TZOFFSETTO:+0200
TZNAME:CEST
END:DAYLIGHT
END:VTIMEZONE
END:VCALENDAR