BEGIN:VCALENDAR
VERSION:2.0
PRODID:-//wp-events-plugin.com//7.2.3.1//EN
TZID:Europe/Warsaw
X-WR-TIMEZONE:Europe/Warsaw
BEGIN:VEVENT
UID:50707@night4u.pl
DTSTART;TZID=Europe/Warsaw:20200821T220000
DTEND;TZID=Europe/Warsaw:20200822T030000
DTSTAMP:20200816T115743Z
URL:https://night4u.pl/wydarzenia/21-08-piatek-%e2%98%85-friday-night-in-t
 he-garden-%e2%98%85-imperium/
SUMMARY:21/08 Piątek ★ Friday Night In The Garden ★ Imperium
DESCRIPTION:21/08 Piątek 💥 Friday Night In The Garden💥 HSP 16+ 💥 
 Imperium Garden Bar 💥 Start godz.22✔️ Panie wstęp FREE✔️\n★ 
 Start godz.22✔️\n★ Największy ogródek piwny z muzyką w mieście
 ✔️\n★ Muzykę w tle serwują Dj`e klubu Imperium✔️\n★ Panie pr
 zez całą noc FREE\, Panowie 10 PLN✔️\n★ Wchodząc do Imperium Gard
 en Bar musisz mieć osłonę nosa i ust✔️
ATTACH;FMTTYPE=image/jpeg:https://night4u.pl/wp-content/uploads/2020/08/18
 4708_image_117760448_3472824996061157_8667151196434373805_o.jpg
CATEGORIES:dolnośląskie
LOCATION:Klub Imperium\, ul. Gdańska 29\, Bolesławiec\, 59-700\, Poland
GEO:51.260342;15.55112
X-APPLE-STRUCTURED-LOCATION;VALUE=URI;X-ADDRESS=ul. Gdańska 29\, Bolesław
 iec\, 59-700\, Poland;X-APPLE-RADIUS=100;X-TITLE=Klub Imperium:geo:51.2603
 42,15.55112
END:VEVENT
BEGIN:VTIMEZONE
TZID:Europe/Warsaw
X-LIC-LOCATION:Europe/Warsaw
BEGIN:DAYLIGHT
DTSTART:20200329T030000
TZOFFSETFROM:+0100
TZOFFSETTO:+0200
TZNAME:CEST
END:DAYLIGHT
END:VTIMEZONE
END:VCALENDAR