BEGIN:VCALENDAR
VERSION:2.0
PRODID:-//wp-events-plugin.com//7.2.3.1//EN
TZID:Europe/Warsaw
X-WR-TIMEZONE:Europe/Warsaw
BEGIN:VEVENT
UID:27808@night4u.pl
DTSTART;TZID=Europe/Warsaw:20190921T200000
DTEND;TZID=Europe/Warsaw:20190922T040000
DTSTAMP:20190916T211023Z
URL:https://night4u.pl/wydarzenia/21-09-koncert-sobota-noc-oczyszczenia-ed
 ycja-ii-fidget-night/
SUMMARY:21.09 Koncert Sobota / Noc Oczyszczenia Edycja II -Fidget Night
DESCRIPTION:21.09 WIELKIE WYDARZENIE ❗️\nJEDEN Z NAJPOPULARNIEJSZYCH PO
 LSKICH RAPERÓW NA SCENIE MEGA MUSIC\n⭐️ SOBOTA ⭐️\n➡️PRZEPRAS
 ZAM\nhttps://www.youtube.com/watch?v=mLSyOuT4SGc\n➡️KIEDY ŚWIAT SIĘ 
 ZAWALI\nhttps://www.youtube.com/watch?v=Z45HQ-pqBk4\n➡️JESZCZE BĘDZIE
  HAJC\nhttps://www.youtube.com/watch?v=dgBr7y1pf3M\n➡️ U MNIE WSZYSTKO
  GRA \nhttps://youtu.be/Qx4mYFDROGE\n➡️ JEB*Ć MIŁOŚĆ \nhttps://you
 tu.be/xabcJh4G8ZU\n\nSala Klubowa\nII EDYCJA NOCY OCZYSZCZENIA\nZ PROJEKTE
 M FIDGET NIGHT\nSześć twarzy muzyki w Wielkim spektaklu\n✅ GASHMAKER\n
 ✅ DĄBER\n✅ KNASSIX\n✅ JOK3R\n✅ CABAY\n✅ PAUL ANDREW\n\nTworzymy
  Nowy Wymiar Imprez ❗️ .Naruszamy czasoprzestrzeń
ATTACH;FMTTYPE=image/jpeg:https://night4u.pl/wp-content/uploads/2019/09/64
 620_image_70435340_3130885020314994_1052330398417158144_o.jpg
CATEGORIES:mazowieckie
LOCATION:Mega Music Wilga (Oficjalne konto klubu)\, Stawowa 9\, Wilga\, 08-
 470\, Poland
GEO:51.84353;21.386362
X-APPLE-STRUCTURED-LOCATION;VALUE=URI;X-ADDRESS=Stawowa 9\, Wilga\, 08-470\
 , Poland;X-APPLE-RADIUS=100;X-TITLE=Mega Music Wilga (Oficjalne konto klub
 u):geo:51.84353,21.386362
END:VEVENT
BEGIN:VTIMEZONE
TZID:Europe/Warsaw
X-LIC-LOCATION:Europe/Warsaw
BEGIN:DAYLIGHT
DTSTART:20190331T030000
TZOFFSETFROM:+0100
TZOFFSETTO:+0200
TZNAME:CEST
END:DAYLIGHT
END:VTIMEZONE
END:VCALENDAR