BEGIN:VCALENDAR
VERSION:2.0
PRODID:-//wp-events-plugin.com//7.2.3.1//EN
TZID:Europe/Warsaw
X-WR-TIMEZONE:Europe/Warsaw
BEGIN:VEVENT
UID:27815@night4u.pl
DTSTART;TZID=Europe/Warsaw:20190921T210000
DTEND;TZID=Europe/Warsaw:20190922T040000
DTSTAMP:20190916T211044Z
URL:https://night4u.pl/wydarzenia/21-09-zespol-skaner-sala-klubowa-yourant
 /
SUMMARY:21.09- zespół Skaner/ sala klubowa Yourant
DESCRIPTION:W sobotę 21.09 zobaczymy na naszej scenie zespół SKANER !\nU
 słyszycie takie hity jak:\nAmore\nhttps://www.youtube.com/watch?v=yTdlC7C
 W158\n\nPociąg do gwiazd\nhttps://www.youtube.com/watch?v=dzFt5u0krcs\n\n
 Nadzieja\nhttps://www.youtube.com/watch?v=VXjrNRmg0a8\ni inne\n\nImprezę 
 rozkręci DJ YOOSHI !!!\n\nNa sali klubowej prosto z OMEN PŁOŚNICA  DJ Y
 OURANT !\nJako support Dj YOUNG'D\n\nWstęp 15zł\nStart 21\n\nW dniu impr
 ezy wylosujemy trzy osoby które wygrają lożę na sali klubowej\, but. w
 ódki\, napój i wejście dla 6 osób.\nWystarczy\, wykonać 3 proste krok
 i:\n- wziąć udział w wydarzeniu\n- zaprosić na nie min. 100 osób\n- n
 apisać w komentarzu ile osób zaprosiliście\n\nPowodzenia
ATTACH;FMTTYPE=image/jpeg:https://night4u.pl/wp-content/uploads/2019/09/64
 645_image_70189997_1550635081746120_1111974153990176768_n.png
CATEGORIES:mazowieckie
LOCATION:Explosion Club Radom\, ul. Wernera 10 ( róg Szarych Szeregów)\, 
 Radom\, 26-610\, Poland
GEO:51.409191;21.144698
X-APPLE-STRUCTURED-LOCATION;VALUE=URI;X-ADDRESS=ul. Wernera 10 ( róg Szary
 ch Szeregów)\, Radom\, 26-610\, Poland;X-APPLE-RADIUS=100;X-TITLE=Explosi
 on Club Radom:geo:51.409191,21.144698
END:VEVENT
BEGIN:VTIMEZONE
TZID:Europe/Warsaw
X-LIC-LOCATION:Europe/Warsaw
BEGIN:DAYLIGHT
DTSTART:20190331T030000
TZOFFSETFROM:+0100
TZOFFSETTO:+0200
TZNAME:CEST
END:DAYLIGHT
END:VTIMEZONE
END:VCALENDAR