BEGIN:VCALENDAR
VERSION:2.0
PRODID:-//wp-events-plugin.com//7.2.3.1//EN
TZID:Europe/Warsaw
X-WR-TIMEZONE:Europe/Warsaw
BEGIN:VEVENT
UID:6024@night4u.pl
DTSTART;TZID=Europe/Warsaw:20190222T210000
DTEND;TZID=Europe/Warsaw:20190223T050000
DTSTAMP:20190201T053224Z
URL:https://night4u.pl/wydarzenia/22-02-koncert-long-junior/
SUMMARY:22.02 - Koncert Long & Junior
DESCRIPTION:Bajka Disco Club to rozpoznawalna marka klubowa w całym kraju.
  Obecnie są to 3 gorące punkty w Łodzi\, Rzeszowie oraz Toruniu. Kluby 
 te charakteryzuje ujednolicona scenografia oraz spójność muzyczna. Serc
 em każdego lokalu jest oczywiście sterowna podłoga wraz ze ścianą. Im
 prezowe piątki oraz soboty to koncerty największych gwiazd sceny disco p
 olo & dance oraz wysokiej klasy imprezy tematyczne.\n\nWitajcie w naszej B
 ajce!\n\n22.02 - KONCERT LONG & JUNIOR\n\nBajkowicze karnawałowego szale
 ństwa ciąg dalszy trwa! Nie zwalniamy tempa i przedstawiamy Wam kolejne 
 koncertowe show! Tym razem na naszej scenie zaprezentują się długo prze
 z Was wszystkich wyczekiwani LONG & JUNIOR! Karnawał 2019 kończymy z wie
 lkim hukiem. Obecność obowiązkowa \;)\n\nLong & Junior - Kolorowa Sukie
 nka\nhttps://www.youtube.com/watch?v=777pdH-lfsc\n\nLong & Junior -  Tańc
 z Tańcz Tańcz\nhttps://www.youtube.com/watch?v=9XolBQsGGBM\n\nLong & Jun
 ior - Bądź Moją Królową\nhttps://www.youtube.com/watch?v=z2K9w8brFIc\
 n\nLong & Junior -  Taka Jesteś\nhttps://www.youtube.com/watch?v=NcKIzBBP
 c3k\n\nImprezę nakręci nasz zawodowiec: DJ MARO\n\nWstęp: 15 zł od 21:
 00\, selekcja + 18\n\nLajkujcie nas i odwiedzajcie na:\nwww.bajkadiscoclub
 .pl\nwww.facebook.com/bajkadiscoclubtorun\n\nBAJKA DISCO CLUB\nToruń\, Ul
 . Szeroka 19.
ATTACH;FMTTYPE=image/jpeg:https://night4u.pl/wp-content/uploads/2019/01/18
 074_image_51046996_997837247068821_4707056523149312000_o.jpg
CATEGORIES:kujawsko-pomorskie
LOCATION:BAJKA DISCO CLUB Toruń\, Szeroka 19\, Torun\, 87-100\, Poland
GEO:53.01047;18.60732
X-APPLE-STRUCTURED-LOCATION;VALUE=URI;X-ADDRESS=Szeroka 19\, Torun\, 87-100
 \, Poland;X-APPLE-RADIUS=100;X-TITLE=BAJKA DISCO CLUB Toruń:geo:53.01047,
 18.60732
END:VEVENT
BEGIN:VTIMEZONE
TZID:Europe/Warsaw
X-LIC-LOCATION:Europe/Warsaw
BEGIN:STANDARD
DTSTART:20181028T020000
TZOFFSETFROM:+0200
TZOFFSETTO:+0100
TZNAME:CET
END:STANDARD
END:VTIMEZONE
END:VCALENDAR