BEGIN:VCALENDAR
VERSION:2.0
PRODID:-//wp-events-plugin.com//7.2.3.1//EN
TZID:Europe/Warsaw
X-WR-TIMEZONE:Europe/Warsaw
BEGIN:VEVENT
UID:10414@night4u.pl
DTSTART;TZID=Europe/Warsaw:20190322T210000
DTEND;TZID=Europe/Warsaw:20190323T050000
DTSTAMP:20190318T195747Z
URL:https://night4u.pl/wydarzenia/22-03-%e2%97%8e-minimal-zone-%e2%97%8e-c
 -l-r-drzeewo-neogenn-lista-free/
SUMMARY:22/03 ◎ Minimal Zone ◎ C.L.R / Drzeewo / Neogenn [lista free*]
DESCRIPTION:W piątek 22 marca Ganjaclinik i Drum Kwadrat zapraszają na ko
 lejną imprezkę z cyklu ⚫️ Minimal Zone ⚫️\nMuzyka oscylować bę
 dzie wokół szeroko pojętego minimalu\, a serwować ją będą prosto z 
 winyli:  \n\n? C.L.R\n? DRZEEWO\n? NEOGENN\n\n⚠️ lista fb FREE do 22:0
 0 / potem 10zł / pozostali 15zł
ATTACH;FMTTYPE=image/jpeg:https://night4u.pl/wp-content/uploads/2019/03/27
 496_image_53764540_1092844040900952_5402718363266842624_o.jpg
CATEGORIES:lubuskie
LOCATION:O B I E K T\, Kazimierza Wielkiego 21\, Zielona Góra\, 65-001\, P
 oland
GEO:51.944503;15.513146
X-APPLE-STRUCTURED-LOCATION;VALUE=URI;X-ADDRESS=Kazimierza Wielkiego 21\, Z
 ielona Góra\, 65-001\, Poland;X-APPLE-RADIUS=100;X-TITLE=O B I E K T:geo:
 51.944503,15.513146
END:VEVENT
BEGIN:VTIMEZONE
TZID:Europe/Warsaw
X-LIC-LOCATION:Europe/Warsaw
BEGIN:STANDARD
DTSTART:20181028T020000
TZOFFSETFROM:+0200
TZOFFSETTO:+0100
TZNAME:CET
END:STANDARD
END:VTIMEZONE
END:VCALENDAR