BEGIN:VCALENDAR
VERSION:2.0
PRODID:-//wp-events-plugin.com//7.2.3.1//EN
TZID:Europe/Warsaw
X-WR-TIMEZONE:Europe/Warsaw
BEGIN:VEVENT
UID:10381@night4u.pl
DTSTART;TZID=Europe/Warsaw:20190322T210000
DTEND;TZID=Europe/Warsaw:20190323T040000
DTSTAMP:20190317T005718Z
URL:https://night4u.pl/wydarzenia/22-03-piatek-%e2%98%85-noc-wagarowicza-%
 e2%98%85-high-school-party-%e2%98%85-imperium/
SUMMARY:22/03 piątek ★ NOC Wagarowicza ★ High School Party ★ Imperiu
 m
DESCRIPTION:22/03 piątek ★ NOC WAGAROWICZA ★ High School Party ★ Imp
 erium B-c. Start godz.21.\n★ dwa parkiety taneczne - dwa klimaty muzyczn
 e\,\n★ do północy:\n- high school wstęp FREE!!! - wpisz się na list
 ę FB!!!\n- promocja: shot kamikaze 1 PLN\n- pierwszy dzwonek 21-00\n- tem
 at: Wielkie Wagarowanie w Imperium\n- grzeczni uczniowie - obecność obow
 iązkowa\n- przyjdźcie ubraniu na galowo (lub nie)\n- lekcje poprowadzi p
 rofesor Kaski i profesor Złoty
ATTACH;FMTTYPE=image/jpeg:https://night4u.pl/wp-content/uploads/2019/03/27
 389_image_54279630_2336443749699293_5815619085832028160_n.jpg
CATEGORIES:dolnośląskie
LOCATION:Klub Imperium\, ul. Gdańska 29\, Bolesławiec\, 59-700\, Poland
GEO:51.260342;15.55112
X-APPLE-STRUCTURED-LOCATION;VALUE=URI;X-ADDRESS=ul. Gdańska 29\, Bolesław
 iec\, 59-700\, Poland;X-APPLE-RADIUS=100;X-TITLE=Klub Imperium:geo:51.2603
 42,15.55112
END:VEVENT
BEGIN:VTIMEZONE
TZID:Europe/Warsaw
X-LIC-LOCATION:Europe/Warsaw
BEGIN:STANDARD
DTSTART:20181028T020000
TZOFFSETFROM:+0200
TZOFFSETTO:+0100
TZNAME:CET
END:STANDARD
END:VTIMEZONE
END:VCALENDAR