BEGIN:VCALENDAR
VERSION:2.0
PRODID:-//wp-events-plugin.com//7.2.3.1//EN
TZID:Europe/Warsaw
X-WR-TIMEZONE:Europe/Warsaw
BEGIN:VEVENT
UID:18284@night4u.pl
DTSTART;TZID=Europe/Warsaw:20190622T210000
DTEND;TZID=Europe/Warsaw:20190623T040000
DTSTAMP:20190605T154205Z
URL:https://night4u.pl/wydarzenia/22-06-cubano-bar-alex-vinent-tomasito-el
 -cubano-cuba/
SUMMARY:22.06 - Cubano Bar: Alex Vinent & Tomasito El Cubano / Cuba
DESCRIPTION:22.06 - CUBANO BAR: ALEXIS VINENT & TOMASITO EL CUBANO / CUBA\n
 \n------------------------------------------------------------------------
 ----------------\n\nPiękne Chicas & Drodzy Caballeros tworzymy specjalnie
  dla Was najbardziej taneczne miejsce w Rzeszowie! Scenografia najnowszej 
 sali Cubano Bar w naszym klubie przybliży Wam codzienne życie na Kubie. 
 By dodatkowo podkreślić klimat miejsca oraz oryginalność projektu Cuba
 no Bar podczas nocy otwarcia oraz wszystkich kolejnych tych niezapomnianyc
 h występować będą rodowici kubańczycy. Prawdziwe kubańskie muzyczne 
 noce tylko w sali Cubano Bar! Fiesta - Danza - Musica.\n\n**********\n\nAT
 RAKCJE WIECZORU:\n\nDJ: ALEXIS VINENT / CUBA\nSHOW & ANIMACJE TANECZNE: TO
 MASITO EL CUBANO / CUBA\nSOBOTNIE TANECZNE WYDARZENIA W SALI CUBANO BAR PO
 D PATRONATEM: Sensual Latin Dance Club In Rzeszow\n\n**********\n\nStart: 
 21:00\nWstęp: 10 ZŁ\nKursanci Sensual Latin Dance Club In Rzeszow z waż
 nym karnetem wstęp darmowy!!!\n\n**********\n\nLajkujcie nas i odwiedzajc
 ie na:\nwww.facebook.com/bajkadiscoclubrzeszow\nwww.bajkadiscoclub.pl\n\n*
 *********\n\nBAJKA DISCO CLUB\nRzeszów\, Ul. Piłsudskiego 34.
ATTACH;FMTTYPE=image/jpeg:https://night4u.pl/wp-content/uploads/2019/06/44
 185_image_61724681_2254542597966249_5039699734474784768_o.jpg
CATEGORIES:podkarpackie
LOCATION:BAJKA DISCO CLUB Rzeszów\, Ul. Piłsudskiego 34\, Rzeszów\, 35-0
 01\, Poland
GEO:50.041268;22.003453
X-APPLE-STRUCTURED-LOCATION;VALUE=URI;X-ADDRESS=Ul. Piłsudskiego 34\, Rzes
 zów\, 35-001\, Poland;X-APPLE-RADIUS=100;X-TITLE=BAJKA DISCO CLUB Rzeszó
 w:geo:50.041268,22.003453
END:VEVENT
BEGIN:VTIMEZONE
TZID:Europe/Warsaw
X-LIC-LOCATION:Europe/Warsaw
BEGIN:DAYLIGHT
DTSTART:20190331T030000
TZOFFSETFROM:+0100
TZOFFSETTO:+0200
TZNAME:CEST
END:DAYLIGHT
END:VTIMEZONE
END:VCALENDAR