BEGIN:VCALENDAR
VERSION:2.0
PRODID:-//wp-events-plugin.com//7.2.3.1//EN
TZID:Europe/Warsaw
X-WR-TIMEZONE:Europe/Warsaw
BEGIN:VEVENT
UID:18288@night4u.pl
DTSTART;TZID=Europe/Warsaw:20190622T210000
DTEND;TZID=Europe/Warsaw:20190623T040000
DTSTAMP:20190605T154214Z
URL:https://night4u.pl/wydarzenia/22-06-sex-on-fire/
SUMMARY:22.06 / Sex on Fire
DESCRIPTION:Spodziewajcie się wszystkiego co czerwone\, ogniste i gorące.
 \nParkiet spłonie...\nponieważ....\nSEX IS ON FIRE!\n\nMusic by:\nDJ MAT
 I - rooftop\nDJ Ramzes - rooftop\n_____________________\nSOBOTA 22.06.2019
 \nStart 21:00 / obowiązuje selekcja\nRezerwacje: +48 533 760 769\nWstęp 
 - 20 pln\n\n*Do 22:00 - Lista FB (kliknij "wezmę udział")\nListę zamyka
 my o godzinie 20:00
ATTACH;FMTTYPE=image/jpeg:https://night4u.pl/wp-content/uploads/2019/06/44
 193_image_62413552_2302848623131442_5479328094357553152_o.jpg
CATEGORIES:podkarpackie
LOCATION:\, \, 
X-APPLE-STRUCTURED-LOCATION;VALUE=URI;X-ADDRESS=\, ;X-APPLE-RADIUS=100;X-TI
 TLE=:geo:0,0
END:VEVENT
BEGIN:VTIMEZONE
TZID:Europe/Warsaw
X-LIC-LOCATION:Europe/Warsaw
BEGIN:DAYLIGHT
DTSTART:20190331T030000
TZOFFSETFROM:+0100
TZOFFSETTO:+0200
TZNAME:CEST
END:DAYLIGHT
END:VTIMEZONE
END:VCALENDAR