BEGIN:VCALENDAR
VERSION:2.0
PRODID:-//wp-events-plugin.com//7.2.3.1//EN
TZID:Europe/Warsaw
X-WR-TIMEZONE:Europe/Warsaw
BEGIN:VEVENT
UID:24414@night4u.pl
DTSTART;TZID=Europe/Warsaw:20190822T210000
DTEND;TZID=Europe/Warsaw:20190824T050000
DTSTAMP:20190809T215055Z
URL:https://night4u.pl/wydarzenia/22-08-23-08-top-1-dj-disco-w-polsce-x-do
 minik-gawecki/
SUMMARY:22.08 - 23.08 TOP 1 DJ DISCO w Polsce x Dominik Gawęcki!
DESCRIPTION:W czwartek i piątek 22 i 23 Sierpnia w naszym klubie wystąpi 
 najlepszy polski DJ muzyki DISCO!\n\n♕♕♕DOMINIK GAWĘCKI♕♕♕\n\
 n✴✴✴✴✴✴✴✴✴✴✴✴✴\n\nSTART: 21:00\n\nSZYKUJCIE SIĘ
  NA WIELKIE DISCO !!!\n\nObecność obowiązkowa!\n♕DYSKOTEKA WESELE♕\
 n✴✴✴✴✴✴✴✴✴✴✴✴✴\nChcesz lożę? zadzwoń Tel.+48 
 791 998 805\nPRZYJEDŹ DO KLUBU LIMUZYNĄ ZA DARMO: 793 687 997\n✴✴✴
 ✴✴✴✴✴✴✴✴✴✴\nInsta: DyskotekaWeseleŁeba\n✴✴✴✴
 ✴✴✴✴✴✴✴✴✴\n\n✴✴✴✴✴✴✴✴✴✴✴✴✴\n
 ♕DYSKOTEKA WESELE♕\nJesteśmy otwarci codziennie od 21 do RANA!\n\nPi
 ątki i Soboty - Prawdziwe Wesele z Młodą Parą\, Zabawami Weselnymi\, W
 iejskim Stolikiem! Podwozimy naszych gości limuzyną!\n\nul. Wojska Polsk
 iego 20\nwww.dyskotekaleba.pl\nInformacje i Współpraca: Tel.+48 791 998 
 805
ATTACH;FMTTYPE=image/jpeg:https://night4u.pl/wp-content/uploads/2019/08/57
 465_image_67770197_2153030618329658_8150470136659181568_o.jpg
CATEGORIES:pomorskie
LOCATION:Dyskoteka Wesele Łeba\, Wojska Polskiego\, Łeba\, 84-360\, Polan
 d
GEO:54.762309;17.55529
X-APPLE-STRUCTURED-LOCATION;VALUE=URI;X-ADDRESS=Wojska Polskiego\, Łeba\, 
 84-360\, Poland;X-APPLE-RADIUS=100;X-TITLE=Dyskoteka Wesele Łeba:geo:54.7
 62309,17.55529
END:VEVENT
BEGIN:VTIMEZONE
TZID:Europe/Warsaw
X-LIC-LOCATION:Europe/Warsaw
BEGIN:DAYLIGHT
DTSTART:20190331T030000
TZOFFSETFROM:+0100
TZOFFSETTO:+0200
TZNAME:CEST
END:DAYLIGHT
END:VTIMEZONE
END:VCALENDAR