BEGIN:VCALENDAR
VERSION:2.0
PRODID:-//wp-events-plugin.com//7.2.3.1//EN
TZID:Europe/Warsaw
X-WR-TIMEZONE:Europe/Warsaw
BEGIN:VEVENT
UID:36453@night4u.pl
DTSTART;TZID=Europe/Warsaw:20191122T200000
DTEND;TZID=Europe/Warsaw:20191123T030000
DTSTAMP:20191122T224022Z
URL:https://night4u.pl/wydarzenia/22-11-%e2%98%85-pt-%e2%98%85-meffis-live
 /
SUMMARY:22.11 ★ pt ★ Meffis Live!
DESCRIPTION:Tematyczny piątek!\nTym razem na scenie MEFFIS🔥\nPiękne im
 ię masz\, Królowa nocy\, Afterparty... to tylko kilka wybranych hitów z
 espołu.\nNajświeższe i najlepsze taneczne kawałki prosto z list przebo
 jów oraz płyt zespołu Meffis.\n❤️ Oczywiście będą niespodzianki!
  ❤️\n❌ Będą latać płyty zespołu oraz koszulki ❌\nLecimy! 💣
 💣\n__________________________________________________\nStart: 20:00 \n
 ★ DRESS CODE ★\nŁadnie\, schludnie\, ale nie sportowo\n\nWstęp / +18
  SELEKCJA\nVIP CARD - wejście bezpłatne\n_______________________________
 ___________________\n★ RESERVATIONS &amp\; SOCIAL MEDIA ★\n84 639 26 2
 6 - info i rezerwacje\nInstagram: https://www.instagram.com/broadway_club_
 zamosc/\nFacebook: https://www.facebook.com/BroadwayZamosc/\nYouTube: http
 s://www.youtube.com/channel/UCWxbnJltCxH7XCAK7pugMLA\n____________________
 ______________________________\n★ CONTACT ★\nBroadway Club Zamość | 
 Peowiaków 94\nbroadway-club.pl\n\nImprezy/catering/zamówienia/restauracj
 a i ogólne zapytania:\nbroadway.klub@gmail.com
ATTACH;FMTTYPE=image/jpeg:https://night4u.pl/wp-content/uploads/2019/11/99
 934_image_75640751_3719119444780349_448853412763664384_o.jpg
CATEGORIES:lubelskie
LOCATION:Broadway Club & Restaurant\, ul. Peowiaków 94\, Zamosc\, 22-400\,
  Poland
GEO:50.715726;23.261037
X-APPLE-STRUCTURED-LOCATION;VALUE=URI;X-ADDRESS=ul. Peowiaków 94\, Zamosc\
 , 22-400\, Poland;X-APPLE-RADIUS=100;X-TITLE=Broadway Club & Restaurant:ge
 o:50.715726,23.261037
END:VEVENT
BEGIN:VTIMEZONE
TZID:Europe/Warsaw
X-LIC-LOCATION:Europe/Warsaw
BEGIN:STANDARD
DTSTART:20191027T020000
TZOFFSETFROM:+0200
TZOFFSETTO:+0100
TZNAME:CET
END:STANDARD
END:VTIMEZONE
END:VCALENDAR