BEGIN:VCALENDAR
VERSION:2.0
PRODID:-//wp-events-plugin.com//7.2.3.1//EN
TZID:Europe/Warsaw
X-WR-TIMEZONE:Europe/Warsaw
BEGIN:VEVENT
UID:24437@night4u.pl
DTSTART;TZID=Europe/Warsaw:20190824T210000
DTEND;TZID=Europe/Warsaw:20190825T050000
DTSTAMP:20190809T215230Z
URL:https://night4u.pl/wydarzenia/24-08-rzeki-przeplynalem-gory-pokonalem-
 wielkim-lasem-szedlem/
SUMMARY:24.08 - Rzeki Przepłynąłem Góry Pokonałem Wielkim Lasem Szedł
 em
DESCRIPTION:24.08 - RZEKI PRZEPŁYNĄŁEM GÓRY POKONAŁEM WIELKIM LASEM SZ
 EDŁEM W BAJCE AŚENAEBAEM\n\nKolejny sobotni imprezowy hit lata! Jak dobr
 ze wiecie wszystkie drogi w weekend prowadzą do Bajki :D Przywitamy Was m
 uzycznie  i popłyniemy kolorowo przez całą długą Bajkową noc :)\n\nI
 mprezę nakręci nasz zawodowiec: DJ MARO\n\nWstęp: 10 zł od 21:00\, sel
 ekcja + 18\n\nLajkujcie nas i odwiedzajcie na:\nwww.bajkadiscoclub.pl\nwww
 .facebook.com/bajkadiscoclubtorun\n\nBAJKA DISCO CLUB\nToruń\, Ul. Szerok
 a 19.
ATTACH;FMTTYPE=image/jpeg:https://night4u.pl/wp-content/uploads/2019/08/57
 512_image_67240921_1112765968909281_2320658898333204480_o.jpg
CATEGORIES:kujawsko-pomorskie
LOCATION:BAJKA DISCO CLUB Toruń\, Szeroka 19\, Torun\, 87-100\, Poland
GEO:53.01047;18.60732
X-APPLE-STRUCTURED-LOCATION;VALUE=URI;X-ADDRESS=Szeroka 19\, Torun\, 87-100
 \, Poland;X-APPLE-RADIUS=100;X-TITLE=BAJKA DISCO CLUB Toruń:geo:53.01047,
 18.60732
END:VEVENT
BEGIN:VTIMEZONE
TZID:Europe/Warsaw
X-LIC-LOCATION:Europe/Warsaw
BEGIN:DAYLIGHT
DTSTART:20190331T030000
TZOFFSETFROM:+0100
TZOFFSETTO:+0200
TZNAME:CEST
END:DAYLIGHT
END:VTIMEZONE
END:VCALENDAR