BEGIN:VCALENDAR
VERSION:2.0
PRODID:-//wp-events-plugin.com//7.2.3.1//EN
TZID:Europe/Warsaw
X-WR-TIMEZONE:Europe/Warsaw
BEGIN:VEVENT
UID:46790@night4u.pl
DTSTART;TZID=Europe/Warsaw:20200425T200000
DTEND;TZID=Europe/Warsaw:20200426T050000
DTSTAMP:20200424T094302Z
URL:https://night4u.pl/wydarzenia/25-04%e2%98%85-extazy%e2%98%85koncert-na
 -zywo/
SUMMARY:25.04★ Extazy★koncert na żywo
DESCRIPTION:⚠25/04 (SOBOTA) - Koncert: Extazy⚠\n\nPo raz kolejny spragn
 ieni zabawy imprezowicze mogą popuścić wodzę fantazji i zapomnieć o t
 rudach mijającego tygodnia👌 Żyjmy więc sobotą\, a ta zapowiada się
  niezwykle interesująco 😎\n\nDrodzy klubowicze! 📢\nTa sobota z pewn
 ością będzie wyjątkowa 😍\nUsłyszycie na żywo takie hity jak:\n-No
 c taka czarna\n-Tylko moja dziewczyna\n-Chciałem być \n-Buzi to za mało
  \n-Samo życie\nI wiele innych...\n\n💎DJ'S💎\n\nPonadto obserwujcie 
 nasz profil\, bo już na dniach będzie do wygrania 🌟PAKIET IMPREZOWICZ
 A🌟\n\n⏰START - 20:00\n\nZabierz przyjaciół i koniecznie wpadnij do 
 nas! 💃🕺\n\nZapraszamy! 💜\n_____________________\nPROMOCJE\n🎂 O
 dprawimy Twoje urodziny!\nA także zorganizujemy:\n💃 Wieczór Panieńsk
 i\n🕺 Wieczór Kawalerski\n\n☎ 792388344
ATTACH;FMTTYPE=image/jpeg:https://night4u.pl/wp-content/uploads/2020/02/15
 3957_image_85173777_3036430316401732_200863710489608192_o.jpg
CATEGORIES:śląskie
LOCATION:Bajlando\, Czerwionka\, Poland
GEO:50.136853;18.642486
X-APPLE-STRUCTURED-LOCATION;VALUE=URI;X-ADDRESS=Czerwionka\, Poland;X-APPLE
 -RADIUS=100;X-TITLE=Bajlando:geo:50.136853,18.642486
END:VEVENT
BEGIN:VTIMEZONE
TZID:Europe/Warsaw
X-LIC-LOCATION:Europe/Warsaw
BEGIN:DAYLIGHT
DTSTART:20200329T030000
TZOFFSETFROM:+0100
TZOFFSETTO:+0200
TZNAME:CEST
END:DAYLIGHT
END:VTIMEZONE
END:VCALENDAR