BEGIN:VCALENDAR
VERSION:2.0
PRODID:-//wp-events-plugin.com//7.2.3.1//EN
TZID:Europe/Warsaw
X-WR-TIMEZONE:Europe/Warsaw
BEGIN:VEVENT
UID:13838@night4u.pl
DTSTART;TZID=Europe/Warsaw:20190425T200000
DTEND;TZID=Europe/Warsaw:20190426T030000
DTSTAMP:20190425T215720Z
URL:https://night4u.pl/wydarzenia/25-04-%e2%98%85-czw-%e2%98%85-borys-lbd-
 dj-fresh/
SUMMARY:25.04 ★ CZW ★ Borys LBD / DJ Fresh
DESCRIPTION:25.04 ? czwartek ? Borys LBD / DJ Fresh\nJedna z najbardziej zw
 ariowanych imprez tego roku ?\nW broadway Club wystąpi równie popularna 
 jak i kontrowersyjna gwiazda kanału Youtube - jedyny i niepowtarzalny BOR
 YS LBD\nTwórca hitów "Jessica"\, "Lady In Red"\, "Andżela"\nTo będzie 
 wybuchowa mieszanka!\nCałą imprezę poprowadzi DJ Fresh\n\n_________\nSt
 art\n20.00\n_________\nKontakt\n★ 84 639 26 26 - info i rezerwacje\n★ 
 Instagram\, Facebook: @BroadwayZamosc\n★ Broadway Club Zamość | Peowia
 ków 94
ATTACH;FMTTYPE=image/jpeg:https://night4u.pl/wp-content/uploads/2019/04/34
 686_image_57284433_3109273555764944_2484238925439172608_o.jpg
CATEGORIES:lubelskie
LOCATION:Broadway Club & Restaurant\, ul. Peowiaków 94\, Zamosc\, 22-400\,
  Poland
GEO:50.715726;23.261037
X-APPLE-STRUCTURED-LOCATION;VALUE=URI;X-ADDRESS=ul. Peowiaków 94\, Zamosc\
 , 22-400\, Poland;X-APPLE-RADIUS=100;X-TITLE=Broadway Club & Restaurant:ge
 o:50.715726,23.261037
END:VEVENT
BEGIN:VTIMEZONE
TZID:Europe/Warsaw
X-LIC-LOCATION:Europe/Warsaw
BEGIN:DAYLIGHT
DTSTART:20190331T030000
TZOFFSETFROM:+0100
TZOFFSETTO:+0200
TZNAME:CEST
END:DAYLIGHT
END:VTIMEZONE
END:VCALENDAR