BEGIN:VCALENDAR
VERSION:2.0
PRODID:-//wp-events-plugin.com//7.2.3.1//EN
TZID:Europe/Warsaw
X-WR-TIMEZONE:Europe/Warsaw
BEGIN:VEVENT
UID:30150@night4u.pl
DTSTART;TZID=Europe/Warsaw:20191025T210000
DTEND;TZID=Europe/Warsaw:20191026T040000
DTSTAMP:20191026T002928Z
URL:https://night4u.pl/wydarzenia/25-10-%e2%96%ba-wielki-polmetek-xxx-lo-x
 -zsel-x-zsow-%e2%96%ba-graffiti/
SUMMARY:25.10 ► Wielki Półmetek XXX LO x ZSEL x ZSOW ► Graffiti
DESCRIPTION:Już 25 października czas na święto trzech szkół – XXX L
 O x ZSEL x ZSOW! Tak! To właśnie te szkoły będą świętowały swój p
 ółmetek w Klubie Graffiti &lt\;3 Podczas tego eventu przygotowaliśmy wi
 ele atrakcji… \;) Jesteście ciekawi co takiego ? Czytajcie uważnie!\n\
 n▬▬▬▬▬▬▬▬▬▬▬▬▬▬▬▬▬▬▬▬▬▬▬▬
 ▬▬\n\nBądźcie gotowi na:\n✦ OGROMNY PARKIET \n✦ MASZYNY DO PRODU
 KCJI BANIEK MYDLANYCH\, KTÓRE POLECĄ PROSTO NA PARKIET ♥\n✦ KONFETTI
  SHOW\n✦ PROFESJONALNA FOTORELACJE\n✦ NAJLEPSZA ZABAWE DO BIAŁEGO RAN
 A\n\n▬▬▬▬▬▬▬▬▬▬▬▬▬▬▬▬▬▬▬▬▬▬▬
 ▬▬▬\n\nPODSUMOWANIE :\n►Data: 25.10.2019 ( PIATEK! )\n►Start: 21
 :00\n►Klub : KLUB GRAFFITI | Al. Piłsudskiego 13\n►Bilety: PRZEDSPRZE
 DAŻ - 15 PLN | BRAMKA - 20 PLN\n\nBILETY DOSTĘPNE SĄ W TWOJEJ SZKOLE! \
 nPytaj o nie naszych dystrybutorów :)\n\n▬▬▬▬▬▬▬▬▬▬
 ▬▬▬▬▬▬▬▬▬▬▬▬▬▬▬▬\n\nWSTĘP DLA WSZYSTKICH 
 UCZNIÓW Z LICEUM ORAZ TECHNIKUM\nDO ZOBACZENIA ♥
ATTACH;FMTTYPE=image/jpeg:https://night4u.pl/wp-content/uploads/2019/10/69
 496_image_71771496_1802356939908384_3793437268992065536_o.jpg
CATEGORIES:lubelskie
LOCATION:Klub Graffiti\, Al. Piłsudskiego 13\, Lublin\, 20-011\, Poland
GEO:51.240318;22.557165
X-APPLE-STRUCTURED-LOCATION;VALUE=URI;X-ADDRESS=Al. Piłsudskiego 13\, Lubl
 in\, 20-011\, Poland;X-APPLE-RADIUS=100;X-TITLE=Klub Graffiti:geo:51.24031
 8,22.557165
END:VEVENT
BEGIN:VTIMEZONE
TZID:Europe/Warsaw
X-LIC-LOCATION:Europe/Warsaw
BEGIN:DAYLIGHT
DTSTART:20190331T030000
TZOFFSETFROM:+0100
TZOFFSETTO:+0200
TZNAME:CEST
END:DAYLIGHT
END:VTIMEZONE
END:VCALENDAR