BEGIN:VCALENDAR
VERSION:2.0
PRODID:-//wp-events-plugin.com//7.2.3.1//EN
TZID:Europe/Warsaw
X-WR-TIMEZONE:Europe/Warsaw
BEGIN:VEVENT
UID:30553@night4u.pl
DTSTART;TZID=Europe/Warsaw:20191025T210000
DTEND;TZID=Europe/Warsaw:20191026T050000
DTSTAMP:20191026T005551Z
URL:https://night4u.pl/wydarzenia/25-10-stock-prestige-night-2/
SUMMARY:25.10 - Stock Prestige Night
DESCRIPTION:25.10 - STOCK PRESTIGE NIGHT\n\nW programie imprezy: degustacja
  oraz promocja na produkty marki Stock Prestige Vodka.\n\nImprezy nakręc
 ą nasi zawodowcy:\n\ngłówna: DJ ROKETS\nexclusive: DJ DREAM \n\nStart: 
 21:00\nWstęp: 10 ZŁ\n\nLajkujcie nas i odwiedzajcie na:\nwww.facebook.co
 m/bajkadiscoclubrzeszow\nwww.bajkadiscoclub.pl\n\nBAJKA DISCO CLUB\nRzesz
 ów\, Ul. Piłsudskiego 34.
ATTACH;FMTTYPE=image/jpeg:https://night4u.pl/wp-content/uploads/2019/10/70
 438_image_72378459_2461607283926445_6695817528716820480_o.jpg
CATEGORIES:podkarpackie
LOCATION:BAJKA DISCO CLUB Rzeszów\, Ul. Piłsudskiego 34\, Rzeszów\, 35-0
 01\, Poland
GEO:50.041268;22.003453
X-APPLE-STRUCTURED-LOCATION;VALUE=URI;X-ADDRESS=Ul. Piłsudskiego 34\, Rzes
 zów\, 35-001\, Poland;X-APPLE-RADIUS=100;X-TITLE=BAJKA DISCO CLUB Rzeszó
 w:geo:50.041268,22.003453
END:VEVENT
BEGIN:VTIMEZONE
TZID:Europe/Warsaw
X-LIC-LOCATION:Europe/Warsaw
BEGIN:DAYLIGHT
DTSTART:20190331T030000
TZOFFSETFROM:+0100
TZOFFSETTO:+0200
TZNAME:CEST
END:DAYLIGHT
END:VTIMEZONE
END:VCALENDAR