BEGIN:VCALENDAR
VERSION:2.0
PRODID:-//wp-events-plugin.com//7.2.3.1//EN
TZID:Europe/Warsaw
X-WR-TIMEZONE:Europe/Warsaw
BEGIN:VEVENT
UID:39312@night4u.pl
DTSTART;TZID=Europe/Warsaw:20191225T200000
DTEND;TZID=Europe/Warsaw:20191226T030000
DTSTAMP:20191225T224023Z
URL:https://night4u.pl/wydarzenia/25-12-%e2%98%85-sb-%e2%98%85-igor-volkof
 f-dj-live-sax/
SUMMARY:25.12 ★ śr ★ Igor Volkoff DJ &amp\; Live Sax
DESCRIPTION:Ceniony gość specjalny z Lwowa ponownie rozbudzi nasze serca 
 ❤️\nPrawdziwa mieszanka sanksofonu na żywo oraz rozgrzanej konsoli w 
 jednym ⭐\nDzięki licznym koncertom oraz współpracy z wieloma znanymi 
 DJ'ami z hukiem wszedł w rynek muzyczny lokalny oraz daleko poza granicam
 i\nEkstra muzyczna mieszanka gwarantowana!\n\nImprezę prowadzi DJ Astero\
 n__________________________________________________\nStart: 20:00 \n★ DR
 ESS CODE ★\nŁadnie\, schludnie\, ale nie sportowo\n\nWstęp / +18 SELEK
 CJA\n__________________________________________________\n★ RESERVATIONS 
 &amp\; SOCIAL MEDIA ★\n84 639 26 26 - info i rezerwacje\nInstagram: http
 s://www.instagram.com/broadway_club_zamosc/\nFacebook: https://www.faceboo
 k.com/BroadwayZamosc/\nYouTube: https://www.youtube.com/channel/UCWxbnJltC
 xH7XCAK7pugMLA\n__________________________________________________\n★ CO
 NTACT ★\nBroadway Club Zamość | Peowiaków 94\nbroadway-club.pl\n\nImp
 rezy/catering/zamówienia/restauracja i ogólne zapytania:\nbroadway.klub@
 gmail.com
ATTACH;FMTTYPE=image/jpeg:https://night4u.pl/wp-content/uploads/2019/12/11
 5266_image_78704390_3797962516896041_2497621953339195392_o.jpg
CATEGORIES:lubelskie
LOCATION:Broadway Club & Restaurant\, ul. Peowiaków 94\, Zamosc\, 22-400\,
  Poland
GEO:50.715726;23.261037
X-APPLE-STRUCTURED-LOCATION;VALUE=URI;X-ADDRESS=ul. Peowiaków 94\, Zamosc\
 , 22-400\, Poland;X-APPLE-RADIUS=100;X-TITLE=Broadway Club & Restaurant:ge
 o:50.715726,23.261037
END:VEVENT
BEGIN:VTIMEZONE
TZID:Europe/Warsaw
X-LIC-LOCATION:Europe/Warsaw
BEGIN:STANDARD
DTSTART:20191027T020000
TZOFFSETFROM:+0200
TZOFFSETTO:+0100
TZNAME:CET
END:STANDARD
END:VTIMEZONE
END:VCALENDAR