BEGIN:VCALENDAR
VERSION:2.0
PRODID:-//wp-events-plugin.com//7.2.3.1//EN
TZID:Europe/Warsaw
X-WR-TIMEZONE:Europe/Warsaw
BEGIN:VEVENT
UID:39446@night4u.pl
DTSTART;TZID=Europe/Warsaw:20191225T200000
DTEND;TZID=Europe/Warsaw:20191226T040000
DTSTAMP:20191225T194904Z
URL:https://night4u.pl/wydarzenia/25-12-sroda-%e2%9c%aa-i-dzien-swiat-%e2%
 9c%aa-apogeum/
SUMMARY:25.12 (środa) ✪ I Dzień Świąt ✪ - Apogeum
DESCRIPTION:ŚRODA 25.12 | START 20:00\nI DZIEŃ ŚWIĄT W APOGEUM!\n\nReze
 rwacje loży: 505 104 990
ATTACH;FMTTYPE=image/jpeg:https://night4u.pl/wp-content/uploads/2019/12/11
 6575_image_78832274_3275675172459316_4674148453662588928_o.jpg
CATEGORIES:małopolskie
LOCATION:Trzyciąż\, Trzyciaz\, Poland
GEO:50.30902;19.7669
X-APPLE-STRUCTURED-LOCATION;VALUE=URI;X-ADDRESS=Trzyciaz\, Poland;X-APPLE-R
 ADIUS=100;X-TITLE=Trzyciąż:geo:50.30902,19.7669
END:VEVENT
BEGIN:VTIMEZONE
TZID:Europe/Warsaw
X-LIC-LOCATION:Europe/Warsaw
BEGIN:STANDARD
DTSTART:20191027T020000
TZOFFSETFROM:+0200
TZOFFSETTO:+0100
TZNAME:CET
END:STANDARD
END:VTIMEZONE
END:VCALENDAR