BEGIN:VCALENDAR
VERSION:2.0
PRODID:-//wp-events-plugin.com//7.2.3.1//EN
TZID:Europe/Warsaw
X-WR-TIMEZONE:Europe/Warsaw
BEGIN:VEVENT
UID:40003@night4u.pl
DTSTART;TZID=Europe/Warsaw:20191225T210000
DTEND;TZID=Europe/Warsaw:20191226T040000
DTSTAMP:20191225T175805Z
URL:https://night4u.pl/wydarzenia/25-12-x-mas-party-sroda-i-swieto-dj-jay-
 18/
SUMMARY:25/12 - X-Mas Party / środa I święto / DJ Jay / 18+
DESCRIPTION:Idą święta\, a co za tym idzie wyjątkowy czas\, który poś
 więcamy najbliższym. To także znakomita okazja do wspólnego wyjścia "
 na miasto" i zafundowania sobie rozrywki!\n\nVehikuł Czasu Środa Wielkop
 olska zaprasza do zabawy w środę\, podczas pierwszego dnia świąt Boże
 go Narodzenia. To będzie zdecydowanie noc wypełniona mnóstwem tanecznyc
 h hitów\, które zaserwuje Wam nasz rezydent - DJ Jay. \n\n➡ start: 21.
 00\n➡ wstęp: 20 PLN (gwarantowane do 22.00 lub dla pierwszych 100 osób
 )\n\nℹ http://sroda.vehikulczasu.pl\n\nKlub Vehikuł Czasu\nŚroda Wielk
 opolska\, ul. Wiosny Ludów 10\nrezerwacje: http://rezerwacje.vehikulczasu
 .pl\n\nUwaga! Czwartek - II święto - klub nieczynny!
ATTACH;FMTTYPE=image/jpeg:https://night4u.pl/wp-content/uploads/2019/12/12
 0483_image_79683724_2511125939103427_5314092396013682688_o.jpg
CATEGORIES:wielkopolskie
LOCATION:Vehikuł Czasu Środa Wielkopolska\, Wiosny Ludów 10\, Sroda Wiel
 kopolska\, 63-000\, Poland
GEO:52.227783;17.276824
X-APPLE-STRUCTURED-LOCATION;VALUE=URI;X-ADDRESS=Wiosny Ludów 10\, Sroda Wi
 elkopolska\, 63-000\, Poland;X-APPLE-RADIUS=100;X-TITLE=Vehikuł Czasu Śr
 oda Wielkopolska:geo:52.227783,17.276824
END:VEVENT
BEGIN:VTIMEZONE
TZID:Europe/Warsaw
X-LIC-LOCATION:Europe/Warsaw
BEGIN:STANDARD
DTSTART:20191027T020000
TZOFFSETFROM:+0200
TZOFFSETTO:+0100
TZNAME:CET
END:STANDARD
END:VTIMEZONE
END:VCALENDAR