BEGIN:VCALENDAR
VERSION:2.0
PRODID:-//wp-events-plugin.com//7.2.3.1//EN
TZID:Europe/Warsaw
X-WR-TIMEZONE:Europe/Warsaw
BEGIN:VEVENT
UID:3029@night4u.pl
DTSTART;TZID=Europe/Warsaw:20190126T200000
DTEND;TZID=Europe/Warsaw:20190126T230000
DTSTAMP:20190108T162558Z
URL:https://night4u.pl/wydarzenia/26-01-starting-over-watermelons-cockney-
 pub/
SUMMARY:26.01 Starting over + Watermelons - Cockney Pub
DESCRIPTION:26 I 2019 (sobota) w Cockney Pub zagrają:\n\nStarting Over (ro
 ck\, Toruń) \nhttps://www.facebook.com/Starting-Over-207729516397950/\nht
 tps://startingoverpl.bandcamp.com/\n\nWatermelons (rock/punk\, Sierpc)\nht
 tps://www.facebook.com/thewatermelonsband/\nhttps://www.youtube.com/watch?
 v=SLkYT24pNa8\n\nWjazd: 15\nBramka 20:00
ATTACH;FMTTYPE=image/jpeg:https://night4u.pl/wp-content/uploads/2019/01/10
 171_image_49756043_541798452991053_39097409418035200_o.jpg
CATEGORIES:pomorskie
LOCATION:Cockney Pub\, ul. Miszewskiego 17\, Gdansk\, 80-239\, Poland
GEO:54.37629;18.61498
X-APPLE-STRUCTURED-LOCATION;VALUE=URI;X-ADDRESS=ul. Miszewskiego 17\, Gdans
 k\, 80-239\, Poland;X-APPLE-RADIUS=100;X-TITLE=Cockney Pub:geo:54.37629,18
 .61498
END:VEVENT
BEGIN:VTIMEZONE
TZID:Europe/Warsaw
X-LIC-LOCATION:Europe/Warsaw
BEGIN:STANDARD
DTSTART:20181028T020000
TZOFFSETFROM:+0200
TZOFFSETTO:+0100
TZNAME:CET
END:STANDARD
END:VTIMEZONE
END:VCALENDAR