BEGIN:VCALENDAR
VERSION:2.0
PRODID:-//wp-events-plugin.com//7.2.3.1//EN
TZID:Europe/Warsaw
X-WR-TIMEZONE:Europe/Warsaw
BEGIN:VEVENT
UID:5008@night4u.pl
DTSTART;TZID=Europe/Warsaw:20190126T210000
DTEND;TZID=Europe/Warsaw:20190128T040000
DTSTAMP:20190124T164448Z
URL:https://night4u.pl/wydarzenia/26-01-we-love-zilion-%e2%98%85-matson-%e
 2%98%85-lacros-%e2%98%85-zilion-wrzelowiec/
SUMMARY:26.01 | We Love Zilion ★ Matson ★ Lacros ★ Zilion Wrzelowiec
DESCRIPTION:❎ 26.01.2018 - Zilion CLUB - Wrzelowiec ❎\n\nNadchodzi nowy
  cykl imprez! \;)\nTej nocy jednoczymy wszystkich stałych bywalców nasze
 go klubu! ??\n\n⭐ WE ❤ ZILION ⭐\n\nEdycja 1⃣\n\n➡ Sala Klubowa\n
 \n⭐ MATSON ⭐\n➖ DJ & Producent\nRezydent zaprzyjaźnionego klubu ?? 
 CORRADO\n\nЭлджей & Feduk - Розовое вино (BVX & MATSON Bo
 otleg 2018) \n? https://www.youtube.com/watch?v=Fi4sISUCM0E\nThe Prince Ka
 rma - Later Bitches (Re Cue x MATSON Bootleg)\n? https://www.youtube.com/w
 atch?v=Y-Xn6HUq7tM\nSeaven & Matson - Turn Up The Bass (Original Mix)\n? h
 ttps://www.youtube.com/watch?v=J85-umuxK84\n\n⭐ DJ Lacros ⭐\n➖ DJ & 
 Producent\n\nFeelingBeat & Dj Lacros - Shakedown\n? https://www.youtube.co
 m/watch?v=kIcyElSvfgE\nAbramo & Dj Lacros - YEAH\n? https://www.youtube.co
 m/watch?v=9POefGQMGkE\nFederico Scavo - Blow It (MTS & Lacros Bootleg)\n? 
 https://www.youtube.com/watch?v=I_u2fIHkCg8\n____________________________\
 n? REZYDENCI ?\n\n? Sala KLUBOWA : ? DJ Lechu ? DJ HUDY\n? Sala DANCE : ? 
 DJ Goryl\n____________________________\n⬇ Weź udział w Wydarzeniu i zg
 arnij darmowe wejście ⬇\n26.01 | We Love Zilion ★ Matson ★ Lacros 
 ★ Zilion Wrzelowiec\n____________________________\n⏰ START - 21:00\n? 
 FOTORELACJA\n♥ ♥ ♥ ♥ ♥ ♥ ♥ ♥ ♥ \nDO ZOBACZENIA W ZILIONI
 E❗??
ATTACH;FMTTYPE=image/jpeg:https://night4u.pl/wp-content/uploads/2019/01/15
 858_image_50797015_2305821079431169_3355884688278290432_o.jpg
CATEGORIES:lubelskie
LOCATION:Zilion CLUB - Wrzelowiec\, ul. Opolska 3\, Wrzelowiec\, 24-320\, P
 oland
GEO:51.097745;21.932795
X-APPLE-STRUCTURED-LOCATION;VALUE=URI;X-ADDRESS=ul. Opolska 3\, Wrzelowiec\
 , 24-320\, Poland;X-APPLE-RADIUS=100;X-TITLE=Zilion CLUB - Wrzelowiec:geo:
 51.097745,21.932795
END:VEVENT
BEGIN:VTIMEZONE
TZID:Europe/Warsaw
X-LIC-LOCATION:Europe/Warsaw
BEGIN:STANDARD
DTSTART:20181028T020000
TZOFFSETFROM:+0200
TZOFFSETTO:+0100
TZNAME:CET
END:STANDARD
END:VTIMEZONE
END:VCALENDAR