BEGIN:VCALENDAR
VERSION:2.0
PRODID:-//wp-events-plugin.com//7.2.3.1//EN
TZID:Europe/Warsaw
X-WR-TIMEZONE:Europe/Warsaw
BEGIN:VEVENT
UID:48164@night4u.pl
DTSTART;TZID=Europe/Warsaw:20200226T210000
DTEND;TZID=Europe/Warsaw:20200227T040000
DTSTAMP:20200226T230945Z
URL:https://night4u.pl/wydarzenia/26-02-3-domowka-u-jaya-rozdajemy-klapki-
 kubota-fb-free/
SUMMARY:26.02 &lt\;3 Domówka u Jay`a - rozdajemy klapki Kubota - fb free
DESCRIPTION:Na środowej\, prywatnej imprezie ‪Ultra Violet rozmawiać b
 ędziecie z kierowniczką Sali - Kasią o... KUBOTACH (Kasia na zdjęciu p
 o zrobieniu chyba z 10 cm w bajcepsach)\, a ‪Karol – manager baru uczy
 ć Was będzie układu tanecznego – „ wibrującego kolana”. Wiemy\, 
 że brzmi to surrealistycznie\, ale posłuchajcie od początku... Około 5
 00 osób\, na dużej\, klubowej przestrzeni\, z najlepszą muzyką\, z nak
 azem robienia zdjęć.\n\nUlica  Sienkiewicza otwarta\, lecz pilnie strze
 żona -  wejście głównymi drzwiami - windą\, żeby  dało się WSZYSTK
 ICH sfotografować. Impreza\, na której wszyscy mogą się wyluzować i z
 aszaleć! Każdy dostaje na wejściu ... klapki - KUBOTY ( wejdziecie w t
 ę opcję) i bawi się bez skrępowania - do białego rana.\n\nZacznie si
 ę od rozmowy z Kasią o Waszych KUBOTACH (namawiać Was będzie na te kla
 pki\, które sama ma na nogach). Szczerze\, nie poznacie jej\, bo jest ter
 az napakowana jak PUDZIDZILLA! Będziecie gadać\, zaśmiewając się do m
 omentu kiedy powie\, jak się nazywa... Rozmowa z Kasią będzie przepustk
 ą do miłej konwersacji z ‪ochroniarzem aka Wieśkiem‬\, a później 
 już  totalne szaleństwo  z resztą naszej brygady - Mrówką\, Kubą i O
 lkiem - "wibrujące kolano" Karola przy ich kocich ruchach - TO NIC!\n\n K
 arol postara się nauczyć  Was  układu tanecznego „wibrującego kolana
 ” (bezskutecznie\, bo skomplikowany\, ale za to był śmieszny)\, ‬Mro
 czek patrząc na Wasz brokatowy\, świecący garnitur\, stwierdzi ze śmie
 chem\, że go przyćmicie (ma na sobie różowy sweter z gruszką aka „C
 hłopaki nie płaczą” )\, z Wieśkiem potańczycie przez chwile za ręk
 ę ( będzie taka konwencja i nie staniecie obok)\, otoczony wianuszkiem d
 ziewczyn barman Bernard posyłać Wam będzie uśmiechy\, ale chyba dlateg
 o\, że jego też rozśmieszy Wasz taniec z Karolem. \n\nKlan kelnerek Kel
 nershianek (Natalia\, Wiktoria\,Zuzia i Lili ) bawić się będzie we wła
 snym gronie. ‪Makos i Borek wezmą udział w radosnym jam session gospod
 arzy. Popis na scenie da Maks\, a pod sceną parkietem zawładną jego kol
 edzy: Seba \, Patryk i Mateusz - takie zwykłe przyjęcie. Do hotelu wróc
 icie o 7….\n\n⭐ Drzwi otwieramy o godzinie 21\n⭐ Muzykę zaserwuje M
 roczek\n⭐ Klub zastrzega sobie prawo do selekcji gości\n\nlista FB FREE
  obowiązuje do godziny 22 | następnie: studenci 10 | reszta śwoata 15\n
 \nWejście +18
ATTACH;FMTTYPE=image/jpeg:https://night4u.pl/wp-content/uploads/2020/02/16
 2584_image_87025865_2752784258102120_3581314421995077632_o.jpg
CATEGORIES:świętokrzyskie
LOCATION:UltraViolet - Exclusive Club\, ul. Sienkiewicza 33\, Kielce\, 25-0
 05\, Poland
GEO:50.87148;20.62637
X-APPLE-STRUCTURED-LOCATION;VALUE=URI;X-ADDRESS=ul. Sienkiewicza 33\, Kielc
 e\, 25-005\, Poland;X-APPLE-RADIUS=100;X-TITLE=UltraViolet - Exclusive Clu
 b:geo:50.87148,20.62637
END:VEVENT
BEGIN:VTIMEZONE
TZID:Europe/Warsaw
X-LIC-LOCATION:Europe/Warsaw
BEGIN:STANDARD
DTSTART:20191027T020000
TZOFFSETFROM:+0200
TZOFFSETTO:+0100
TZNAME:CET
END:STANDARD
END:VTIMEZONE
END:VCALENDAR