BEGIN:VCALENDAR
VERSION:2.0
PRODID:-//wp-events-plugin.com//7.2.3.1//EN
TZID:Europe/Warsaw
X-WR-TIMEZONE:Europe/Warsaw
BEGIN:VEVENT
UID:13839@night4u.pl
DTSTART;TZID=Europe/Warsaw:20190426T200000
DTEND;TZID=Europe/Warsaw:20190427T030000
DTSTAMP:20190425T215722Z
URL:https://night4u.pl/wydarzenia/26-04-%e2%98%85-pt-%e2%98%85-lets-dance-
 night-z-ex-azja/
SUMMARY:26.04 ★ PT ★ Let's Dance Night z Ex-Azja
DESCRIPTION:26.04 ❌ piątek ❌ Let's Dance Night z Ex-Azja\nUdowodnimy\,
  że najlepsza jest taneczna zabawa!\nLubimy prawdziwy taneczne doświadcz
 enia na parkiecie.\nPiątkowa noc w muzycznym wykonaniu Ex-Azji\n\n➡️ 
 znane covery\n➡️ polskie przytulanki\n➡️ 100% Gold Hits\n➡️ le
 tnie wspomnienia\n➡️ super topowe nowości\n\n_________\nStart\n20.00\
 n_________\nKontakt\n★ 84 639 26 26 - info i rezerwacje\n★ Instagram\,
  Facebook: @BroadwayZamosc\n★ Broadway Club Zamość | Peowiaków 94
ATTACH;FMTTYPE=image/jpeg:https://night4u.pl/wp-content/uploads/2019/04/34
 688_image_57716576_3117840778241555_502559603683229696_o.jpg
CATEGORIES:lubelskie
LOCATION:Broadway Club & Restaurant\, ul. Peowiaków 94\, Zamosc\, 22-400\,
  Poland
GEO:50.715726;23.261037
X-APPLE-STRUCTURED-LOCATION;VALUE=URI;X-ADDRESS=ul. Peowiaków 94\, Zamosc\
 , 22-400\, Poland;X-APPLE-RADIUS=100;X-TITLE=Broadway Club & Restaurant:ge
 o:50.715726,23.261037
END:VEVENT
BEGIN:VTIMEZONE
TZID:Europe/Warsaw
X-LIC-LOCATION:Europe/Warsaw
BEGIN:DAYLIGHT
DTSTART:20190331T030000
TZOFFSETFROM:+0100
TZOFFSETTO:+0200
TZNAME:CEST
END:DAYLIGHT
END:VTIMEZONE
END:VCALENDAR