BEGIN:VCALENDAR
VERSION:2.0
PRODID:-//wp-events-plugin.com//7.2.3.1//EN
TZID:Europe/Warsaw
X-WR-TIMEZONE:Europe/Warsaw
BEGIN:VEVENT
UID:32993@night4u.pl
DTSTART;TZID=Europe/Warsaw:20191026T200000
DTEND;TZID=Europe/Warsaw:20191027T030000
DTSTAMP:20191026T224014Z
URL:https://night4u.pl/wydarzenia/26-10-%e2%98%85-sobota-%e2%98%85-single-
 party-noc-pelna-wrazen/
SUMMARY:26.10 ★ sobota ★ Single Party - noc pełna wrażeń
DESCRIPTION:26.07 ★ sobota ★ Single Party - noc pełna wrażeń\n💚 k
 olor zielony - wolna\, wolny \n&lt\;3 kolor czerwony - zajęta\, zajęty\n
 Rozdajemy specjalne opaski\nNoc pełna wrażeń ❤️\nPrzyjaźń\, miło
 ść\, flirt\, a może tylko wspólne chwile?\n\nTeraz znalezienie osoby d
 o wspólnej rozmowy jest o wiele łatwiejsze!\nGorąca sobota na horyzonci
 e tylko w Broadway Club\n\nRozgrzewać zza konsoli będzie tym razem Pawe
 ł Szczygieł aka DJ Paulo\n______________________________________________
 ____\n\nStart: 20:00 \n★ DRESS CODE ★\nSMART CASUAL!\n\nWstęp / +18 S
 ELEKCJA \n__________________________________________________\n★ RESERVAT
 IONS &amp\; SOCIAL MEDIA ★\n84 639 26 26 - info i rezerwacje\nInstagram:
  https://www.instagram.com/broadway_club_zamosc/\nFacebook: https://www.fa
 cebook.com/BroadwayZamosc/\nYouTube: https://www.youtube.com/channel/UCWxb
 nJltCxH7XCAK7pugMLA\n__________________________________________________\n
 ★ CONTACT ★\nBroadway Club Zamość | Peowiaków 94\nbroadway-club.pl\
 n\nImprezy/catering/zamówienia/restauracja i ogólne zapytania:\nbroadway
 .klub@gmail.com
ATTACH;FMTTYPE=image/jpeg:https://night4u.pl/wp-content/uploads/2019/10/81
 141_image_73041374_3625577230801238_8375251167105515520_o.jpg
CATEGORIES:lubelskie
LOCATION:Broadway Club & Restaurant\, ul. Peowiaków 94\, Zamosc\, 22-400\,
  Poland
GEO:50.715726;23.261037
X-APPLE-STRUCTURED-LOCATION;VALUE=URI;X-ADDRESS=ul. Peowiaków 94\, Zamosc\
 , 22-400\, Poland;X-APPLE-RADIUS=100;X-TITLE=Broadway Club & Restaurant:ge
 o:50.715726,23.261037
END:VEVENT
BEGIN:VTIMEZONE
TZID:Europe/Warsaw
X-LIC-LOCATION:Europe/Warsaw
BEGIN:DAYLIGHT
DTSTART:20190331T030000
TZOFFSETFROM:+0100
TZOFFSETTO:+0200
TZNAME:CEST
END:DAYLIGHT
BEGIN:STANDARD
DTSTART:20191027T020000
TZOFFSETFROM:+0200
TZOFFSETTO:+0100
TZNAME:CET
END:STANDARD
END:VTIMEZONE
END:VCALENDAR