BEGIN:VCALENDAR
VERSION:2.0
PRODID:-//wp-events-plugin.com//7.2.3.1//EN
TZID:Europe/Warsaw
X-WR-TIMEZONE:Europe/Warsaw
BEGIN:VEVENT
UID:33583@night4u.pl
DTSTART;TZID=Europe/Warsaw:20191026T213000
DTEND;TZID=Europe/Warsaw:20191027T040000
DTSTAMP:20250901T211308Z
URL:https://night4u.pl/wydarzenia/26-10-2019-predators-led-robot-show-foru
 m-music-club/
SUMMARY:• 26.10.2019 • Predators LED Robot Show • Forum - Music Club
DESCRIPTION:• 26.10.2019 • Predators LED Robot Show • Forum - Music C
 lub\nPredators Robot Show ponad dwumetrowe roboty LED w Forum!\n__________
 _____\nForum - Music Club\, ul. Żwirki 40\, Włoszczowa\n• DJ: MaxOne\n
 • Start: 21:30\n• Wstęp: +18\n• REZERWACJA: FACEBOOK
ATTACH;FMTTYPE=image/jpeg:https://night4u.pl/wp-content/uploads/2019/10/84
 409_image_72764556_3686554188037406_5933006902878273536_o.jpg
CATEGORIES:świętokrzyskie
LOCATION:FORUM - Music Club\, ul. Żwirki 40\, Włoszczowa\, 29-100\, Polan
 d
GEO:50.85124;19.97031
X-APPLE-STRUCTURED-LOCATION;VALUE=URI;X-ADDRESS=ul. Żwirki 40\, Włoszczow
 a\, 29-100\, Poland;X-APPLE-RADIUS=100;X-TITLE=FORUM - Music Club:geo:50.8
 5124,19.97031
END:VEVENT
BEGIN:VTIMEZONE
TZID:Europe/Warsaw
X-LIC-LOCATION:Europe/Warsaw
BEGIN:DAYLIGHT
DTSTART:20190331T030000
TZOFFSETFROM:+0100
TZOFFSETTO:+0200
TZNAME:CEST
END:DAYLIGHT
BEGIN:STANDARD
DTSTART:20191027T020000
TZOFFSETFROM:+0200
TZOFFSETTO:+0100
TZNAME:CET
END:STANDARD
END:VTIMEZONE
END:VCALENDAR