BEGIN:VCALENDAR
VERSION:2.0
PRODID:-//wp-events-plugin.com//7.2.3.1//EN
TZID:Europe/Warsaw
X-WR-TIMEZONE:Europe/Warsaw
BEGIN:VEVENT
UID:29137@night4u.pl
DTSTART;TZID=Europe/Warsaw:20191026T210000
DTEND;TZID=Europe/Warsaw:20191027T040000
DTSTAMP:20250901T212608Z
URL:https://night4u.pl/wydarzenia/26-10-baccaratclub-lets-party-with-dj-sf
 istaq-pasko-grovebox/
SUMMARY:26.10 @Baccaratclub Let’s Party with Dj Sfistaq | Paśko grovebox
DESCRIPTION:26.10 @Baccaratclub Let’s Party with Dj Sfistaq | Paśko grov
 ebox \n\n\nZMOBILIZUJCIE SIŁY NA IMPREZĘ!!!\n\n Odwiedź nasz klub i na 
 własnych uszach przekonaj się jaki styl muzyczny tego wieczoru zawładni
 e twoim ciałem i umysłem. Właśnie tak!!!\nPo pierwszym razie nie będz
 iecie chcieli przestać.\nBo my Jesteśmy uzależniający!!\nCały czas bu
 jamy i luzujemy. Wbijajcie na parkiet\, gdy macie coś do powiedzenia – 
 wytańczcie to.!!!!!!\n\n*\nJak zdobyć wejściówkę?\n*\nJeśli chcesz z
 aproszenie na imprezę oraz masz ochotę na powitalnego drinka od klubu\, 
 wyślij maila z: datą imprezy\, Twoim imieniem i nazwiskiem\, oraz imiona
 mi i nazwiskami znajomych\, których chciałbyś zabrać ze sobą na adres
 : INFO@BACCARATCLUB.PL\n*\nBACCARAT TO MIEJSCE DLA LUDZI Z CHARAKTEREM\nLE
 T THE SHOW BEGIN!!!!!\n*\nINFO I REZERWACJA\nINFO@BACCARATCLUB.PL\nTEL :69
 5 116 760\nWWW.BACCARATCLUB.PL\nwww.baccaratmusicclub.blogspot.com\n\n \n\
 nWejscie do klubu FREE tylko z listy gosci !!!!
ATTACH;FMTTYPE=image/jpeg:https://night4u.pl/wp-content/uploads/2019/09/67
 388_image_71211802_3279021002137968_4099584891493023744_n.jpg
CATEGORIES:małopolskie
LOCATION:Baccarat Club\, ul. Stolarska 13\, Kraków\, 31-043\, Poland
GEO:50.05978;19.93865
X-APPLE-STRUCTURED-LOCATION;VALUE=URI;X-ADDRESS=ul. Stolarska 13\, Kraków\
 , 31-043\, Poland;X-APPLE-RADIUS=100;X-TITLE=Baccarat Club:geo:50.05978,19
 .93865
END:VEVENT
BEGIN:VTIMEZONE
TZID:Europe/Warsaw
X-LIC-LOCATION:Europe/Warsaw
BEGIN:DAYLIGHT
DTSTART:20190331T030000
TZOFFSETFROM:+0100
TZOFFSETTO:+0200
TZNAME:CEST
END:DAYLIGHT
BEGIN:STANDARD
DTSTART:20191027T020000
TZOFFSETFROM:+0200
TZOFFSETTO:+0100
TZNAME:CET
END:STANDARD
END:VTIMEZONE
END:VCALENDAR