BEGIN:VCALENDAR
VERSION:2.0
PRODID:-//wp-events-plugin.com//7.2.3.1//EN
TZID:Europe/Warsaw
X-WR-TIMEZONE:Europe/Warsaw
BEGIN:VEVENT
UID:32944@night4u.pl
DTSTART;TZID=Europe/Warsaw:20191026T210000
DTEND;TZID=Europe/Warsaw:20191027T040000
DTSTAMP:20191026T210707Z
URL:https://night4u.pl/wydarzenia/26-10-ladies-night-luka-rosi-koncert-b-d
 ay-hooq/
SUMMARY:26/10 Ladies Night Luka Rosi Koncert / B Day HOOQ
DESCRIPTION:26/10 - LADIES NIGHT: \n-WSTĘP WOLNY DLA WSZSYTKICH PAŃ KTÓR
 E WEZMĄ UDZIAŁ W WYDARZENIU (ważny do godziny 22)\n- WELCOME SHOT DO 22
 :00\nGŁOWAN SALA:\n- LUKA ROSI - KONCERT  1:00\n- BDAY-DJ HOOQ \nDOLNA SA
 LA:\n- NOC DISCO POLO DJ YARO\nBilet: 0 (Aktywni na FB) -  12/15\nStart: 2
 1:00\nREZERWACJE: 602 424 844\n\n❌ PROMOCJE:❌\n▶ Urodziny - loża + 
 bilet gratis (po wcześniejszej rezerwacji telefonicznej)\n▶ Wieczór Pa
 nieński\, Kawalerski - loża + szampan gratis\, bilety dla specjalnie prz
 ebranych gratis.\n▶ Kierowca (pod warunkiem przywiezienia min. 3 pasaże
 rów) - pokaż przy wejściu kluczyki samochodu - bilet gratis.\n▶ PAKIE
 T STARTOWY - loża\, butelka wódki + napój gratis. Losowanie w każdą s
 obotę przed wydarzeniem\n\n\n❌❌ KONKURS ❌❌\nSpośród osób któr
 e zaproszą 300 znajomych do wydarzenia rozlosujemy kilkanaście darmowych
  wstępów oraz pakiety startowe (0.5% - przepojka - loża) na sobotni kon
 cert! \n1. Zaproś min.300 osób do udziału w wydarzeniu. (Jeśli zaprosi
 sz 299\, aplikacja losująca od razu Cię odrzuci!)\n2. Na tablicy wydarze
 nia dodaj screen z ilością zaproszonych osób.\n3. Udostępnij wydarzeni
 e &gt\;&gt\;&gt\;  \nhttps://www.facebook.com/events/949101885441731/
ATTACH;FMTTYPE=image/jpeg:https://night4u.pl/wp-content/uploads/2019/10/81
 002_image_75369238_2637055036316753_2725469109398536192_o.jpg
CATEGORIES:lubelskie
LOCATION:SkrClub Obsza\, Obsza 140\, Obsza\, 23-413\, Poland
GEO:50.31507;22.95719
X-APPLE-STRUCTURED-LOCATION;VALUE=URI;X-ADDRESS=Obsza 140\, Obsza\, 23-413\
 , Poland;X-APPLE-RADIUS=100;X-TITLE=SkrClub Obsza:geo:50.31507,22.95719
END:VEVENT
BEGIN:VTIMEZONE
TZID:Europe/Warsaw
X-LIC-LOCATION:Europe/Warsaw
BEGIN:DAYLIGHT
DTSTART:20190331T030000
TZOFFSETFROM:+0100
TZOFFSETTO:+0200
TZNAME:CEST
END:DAYLIGHT
BEGIN:STANDARD
DTSTART:20191027T020000
TZOFFSETFROM:+0200
TZOFFSETTO:+0100
TZNAME:CET
END:STANDARD
END:VTIMEZONE
END:VCALENDAR