BEGIN:VCALENDAR
VERSION:2.0
PRODID:-//wp-events-plugin.com//7.2.3.1//EN
TZID:Europe/Warsaw
X-WR-TIMEZONE:Europe/Warsaw
BEGIN:VEVENT
UID:30257@night4u.pl
DTSTART;TZID=Europe/Warsaw:20191026T210000
DTEND;TZID=Europe/Warsaw:20191027T050000
DTSTAMP:20250901T212618Z
URL:https://night4u.pl/wydarzenia/26-10-wesele-w-bajce/
SUMMARY:26.10 - Wesele w Bajce
DESCRIPTION:26.10 - WESELE W BAJCE\n\nZapraszamy na jeden z naszych najwię
 kszych hitów\, czyli impreza pod nazwą WESELE! U nas nie musisz mieć pr
 zygotowanej koperty dla pary młodej \;) Za to na pewno świetnie się wyb
 awisz przez całą długą noc! W programie imprezy: para młoda\, wodzire
 j\, oczepiny\, zabawy oraz stół wiejski.\n\nZagra: DJ JOKER\n\nStart 21:
 00\, selekcja +18 lat\nWstęp 10 PLN\n\nLajkujcie nas i odwiedzajcie na:\n
 www.bajkadiscoclub.pl\nwww.facebook.com/bajkadiscoclublodz\n\nBAJKA DISCO 
 CLUB\nŁódź\, Piotrkowska 90.
ATTACH;FMTTYPE=image/jpeg:https://night4u.pl/wp-content/uploads/2019/10/69
 774_image_72485949_1282809405230310_48468860554182656_o.jpg
CATEGORIES:łódzkie
LOCATION:BAJKA DISCO CLUB Łódź\, Piotrkowska 90\, Łódź\, 90-103\, Pol
 and
GEO:51.76649;19.45728
X-APPLE-STRUCTURED-LOCATION;VALUE=URI;X-ADDRESS=Piotrkowska 90\, Łódź\, 
 90-103\, Poland;X-APPLE-RADIUS=100;X-TITLE=BAJKA DISCO CLUB Łódź:geo:51
 .76649,19.45728
END:VEVENT
BEGIN:VTIMEZONE
TZID:Europe/Warsaw
X-LIC-LOCATION:Europe/Warsaw
BEGIN:DAYLIGHT
DTSTART:20190331T030000
TZOFFSETFROM:+0100
TZOFFSETTO:+0200
TZNAME:CEST
END:DAYLIGHT
BEGIN:STANDARD
DTSTART:20191027T020000
TZOFFSETFROM:+0200
TZOFFSETTO:+0100
TZNAME:CET
END:STANDARD
END:VTIMEZONE
END:VCALENDAR