BEGIN:VCALENDAR
VERSION:2.0
PRODID:-//wp-events-plugin.com//7.2.3.1//EN
TZID:Europe/Warsaw
X-WR-TIMEZONE:Europe/Warsaw
BEGIN:VEVENT
UID:13806@night4u.pl
DTSTART;TZID=Europe/Warsaw:20190427T220000
DTEND;TZID=Europe/Warsaw:20190428T040000
DTSTAMP:20190425T215540Z
URL:https://night4u.pl/wydarzenia/27-04-%e2%98%85-vi-urodziny-podlasianki-
 najpiekniejsze-%e2%98%85-lista-fb-free%e2%98%85/
SUMMARY:27/04 ★ VI Urodziny Podlasianki Najpiękniejsze ★ Lista Fb FREE
 ★
DESCRIPTION:?Sobota z Elixir?\n❌Lista FB Wejście Free do 23:00 ❌\nList
 a fb zamykana o 20.00\n\nELIXIR CLUB prezentuje:\n\nJuż 27 kwietnia zapra
 szamy Was na imprezę\, której współorganizatorem są" Podlasianki najp
 iękniejsze ". Tego dnia będziemy świętować ich 6 URODZINY.  Zagoszcz
 ą u nas najpiękniejsze Podlasianki\, a także licznie przybędą fotogra
 fowie. \nNie zabraknie również szampana\, tortu i dobrej zabawy do sameg
 o rana.\n\nPrzygotowaliśmy również kilka atrakcji GUN CO2\, piękne hos
 tessy\, DARMOWE KOLOROWE SZOTY rozdawane dla gości .\n\nBawcie się razem
  z nami. Nie może Was zabraknąć. Musicie to przeżyć razem z nami.\n\n
 W Tym dniu - PROMO BAR - drink wieczoru w promocyjnej cenie 10 PLN?\n\n★
 ★★★★★★★★★★★★★★★★★★★★★★★★
 ★★★★★\n\nMija 7 miesięcy od otwarcia klubu. Przez ten czas wyel
 iminowaliśmy większość słabych punktów lokalu!\n\nTen kto był  na p
 oczątku i mu się nie spodobało ZAPRASZAMY drugi raz! Tym razem nie zawi
 edzie się!\n\nNasze motto: To my jesteśmy dla Was. Nie odwrotnie! #nowyw
 ymiarimprez\n\nJeśli macie jakiekolwiek uwagi lub skargi zgłaszajcie nam
  je przez Facebook lub Instagram!\n\n★★★★★★★★★★★★
 ★★★★★★★★★★★★★★★★★★\n\nImprezę poprowa
 dzi nasz rezydent DJ Positivee\, który zapewni dawkę dobrej klubowej muz
 yki❗️?\n\n► Miejsce: Elixir Club ul. Lipowa 30 ?\n\n► Data: 27.04.
 2019 ?\n\n► Start: 22:00 ?\n\n► Dresscode: elegant/no-sport. ?\n\nCHCE
 SZ WEJŚĆ ZA DARMO? \nKliknij "wezmę udział" w wydarzeniu i wejdź do g
 odziny 23.00 za darmo.\n\nRezerwacja loży: 570-590-120\n—————
 ———————————————————-\n\nMiejsce\, w 
 którym odbędzie się impreza to nowo otwarty ELIXIR CLUB\, mieszczący s
 ię przy ul. Lipowej 30. Lokal\, który jest po kapitalnym remoncie posiad
 a najnowsze technologie oświetlenia i nagłośnienia. Nasi rezydenci zadb
 ają o najlepszą oprawę muzyczną w Białymstoku! W trakcie imprezy spr
 óbujecie także świetnych drinków w atrakcyjnych cenach!\n\n———
 —————————————————————-\n\nKlub z
 astrzega prawo do selekcji gości. Wchodząc\, akceptujesz regulamin klubu
  (m.in publikowanie zdjęć i filmów)\n\nTo będzie niezapomniana noc! ?
ATTACH;FMTTYPE=image/jpeg:https://night4u.pl/wp-content/uploads/2019/04/34
 627_image_57438174_2271148289616349_5247890848149929984_o.jpg
CATEGORIES:podlaskie
LOCATION:Elixir Club\, ul. Lipowa 30\, Białystok\, 15-427\, Poland
GEO:53.13423;23.1484
X-APPLE-STRUCTURED-LOCATION;VALUE=URI;X-ADDRESS=ul. Lipowa 30\, Białystok\
 , 15-427\, Poland;X-APPLE-RADIUS=100;X-TITLE=Elixir Club:geo:53.13423,23.1
 484
END:VEVENT
BEGIN:VTIMEZONE
TZID:Europe/Warsaw
X-LIC-LOCATION:Europe/Warsaw
BEGIN:DAYLIGHT
DTSTART:20190331T030000
TZOFFSETFROM:+0100
TZOFFSETTO:+0200
TZNAME:CEST
END:DAYLIGHT
END:VTIMEZONE
END:VCALENDAR