BEGIN:VCALENDAR
VERSION:2.0
PRODID:-//wp-events-plugin.com//7.2.3.1//EN
TZID:Europe/Warsaw
X-WR-TIMEZONE:Europe/Warsaw
BEGIN:VEVENT
UID:11295@night4u.pl
DTSTART;TZID=Europe/Warsaw:20190427T200000
DTEND;TZID=Europe/Warsaw:20190427T230000
DTSTAMP:20190403T162047Z
URL:https://night4u.pl/wydarzenia/27-04-burlesque-show-red-juliette/
SUMMARY:27.04 // Burlesque Show Red Juliette
DESCRIPTION:Sobotnie Burlesque show\, w którym zobaczycie Waszą ulubioną
  performerkę - Juliette Red ❤??\nNowe numery\, niespodzianki i jak zwyk
 le doskonała zabawa! \nZobaczycie najlepszą światową burleskę siedzą
 c wygodnie przy stoliku i popijając najsmaczniejsze drinki.???\nRed Julie
 tte to czołowa performerka burleski na arenie Polski i Europy.\nZdobywczy
 ni pierwszego miejsca na międzynarodowym\nkonkursie "World Burlesque Game
 s" oraz dwukrotna headlinerka\nnajwiększego festiwalu burleski na świeci
 e "London Burlesque\nFestival". Półfinalistka ostatniej edycji programu 
 "Mam Talent".\nNazywana najlepszą tancerką polskiej burleski i prawdziwy
 m wulkanem energii na scenie.\nCechuje ją niezwykła wszechstronność st
 ylistyczna - równie dobrze\nodnajduje się w gorących egzotycznych pokaz
 ach\, jak i poetyckich wizjach\nw klimacie art noveau. \nNa burleskowej sc
 enie gości od sześciu lat\, regularnie występując w kraju i zagranicą
 .\n\nNa dużej sali muzyczne doznania zapewni Wam Stencel\, natomiast na m
 ałej  30TON. \n\nZAPRASZAMY!\nul. Podgórna 12\, Poznań
ATTACH;FMTTYPE=image/jpeg:https://night4u.pl/wp-content/uploads/2019/04/29
 341_image_56120017_391755861405093_7651978773243363328_n.jpg
CATEGORIES:wielkopolskie
LOCATION:Punto Punto Club\, Podgórna 12\, Poznan\, 61-828\, Poland
GEO:52.40596;16.92945
X-APPLE-STRUCTURED-LOCATION;VALUE=URI;X-ADDRESS=Podgórna 12\, Poznan\, 61-
 828\, Poland;X-APPLE-RADIUS=100;X-TITLE=Punto Punto Club:geo:52.40596,16.9
 2945
END:VEVENT
BEGIN:VTIMEZONE
TZID:Europe/Warsaw
X-LIC-LOCATION:Europe/Warsaw
BEGIN:DAYLIGHT
DTSTART:20190331T030000
TZOFFSETFROM:+0100
TZOFFSETTO:+0200
TZNAME:CEST
END:DAYLIGHT
END:VTIMEZONE
END:VCALENDAR