BEGIN:VCALENDAR
VERSION:2.0
PRODID:-//wp-events-plugin.com//7.2.3.1//EN
TZID:Europe/Warsaw
X-WR-TIMEZONE:Europe/Warsaw
BEGIN:VEVENT
UID:51205@night4u.pl
DTSTART;TZID=Europe/Warsaw:20210827T220000
DTEND;TZID=Europe/Warsaw:20210827T220000
DTSTAMP:20210827T132845Z
URL:https://night4u.pl/wydarzenia/27-08-afterglow-by-coco/
SUMMARY:27.08 | AFTERGLOW by COCO
DESCRIPTION:---------------------------------------------------------------
 -----------------\nPROMOCJA DLA PAŃ:\n2 drinki = 10 zł każdy!\nOdbierz 
 od selekcjonera ulotkę\, dzięki której kupisz 2 drinki w cenie 10 zł! 
 Lista wszystkich drinków dostępna na barze\nUWAGA! Promocje obowiązują
  po dopisaniu się do listy gości na FB lub where2be:\nDODATKOWO: wstęp 
 FREE do 24:00 z listy!\n--------------------------------------------------
 ------------------------------\nStosujemy się do wszelkich zaleceń sanit
 arnych\, zgodnie z najnowszymi wytycznymi Ministerstwa Zdrowia oraz Głów
 nego Inspektoratu Sanitarnego.\nIlość osób ograniczona.\nWstęp możliw
 y jedynie w maseczce. W przypadku braku maseczki\, istnieje możliwość z
 akupu na wejściu.
ATTACH;FMTTYPE=image/jpeg:https://night4u.pl/wp-content/uploads/2021/08/18
 6642_image_239449352_6444775255532904_6002692912363437191_n.jpg
CATEGORIES:małopolskie
END:VEVENT
BEGIN:VTIMEZONE
TZID:Europe/Warsaw
X-LIC-LOCATION:Europe/Warsaw
BEGIN:DAYLIGHT
DTSTART:20210328T030000
TZOFFSETFROM:+0100
TZOFFSETTO:+0200
TZNAME:CEST
END:DAYLIGHT
END:VTIMEZONE
END:VCALENDAR