BEGIN:VCALENDAR
VERSION:2.0
PRODID:-//wp-events-plugin.com//7.2.3.1//EN
TZID:Europe/Warsaw
X-WR-TIMEZONE:Europe/Warsaw
BEGIN:VEVENT
UID:51258@night4u.pl
DTSTART;TZID=Europe/Warsaw:20210827T210000
DTEND;TZID=Europe/Warsaw:20210827T210000
DTSTAMP:20210827T135938Z
URL:https://night4u.pl/wydarzenia/27-08-explozja/
SUMMARY:27.08- Explozja
DESCRIPTION:W piątek 27.08 zapraszamy na koncert zespołu EXPLOZJA !!!\nUs
 łyszycie taki hit jak:\nSZÓSTA RANO\nhttps://www.youtube.com/watch?v=0yT
 FM-uRcIg\n\nZa konsolą wystąpi DJ FESTER\nDo każdej zarezerwowanej loż
 y butelka wódki FLOVV gratis !!!\n\nWstęp Panie gratis\, Panowie 10 zł\
 n\nRezerwuj loże i miejsca siedzące poprzez biuro@explosionradom.pl lub 
 tel: 517648669\n\nW dniu imprezy wylosujemy trzy osoby które wygrają lo
 żę na sali klubowej\, but. wódki\, napój i wejście dla 6 osób.\nWyst
 arczy\, wykonać 3 proste kroki:\n- wziąć udział w wydarzeniu\n- zapros
 ić na nie min. 100 osób\n- napisać w komentarzu ile osób zaprosiliści
 e\nPowodzenia\n\n„Informujemy że dla Państwa bezpieczeństwa Organizat
 or w trakcie imprezy będzie stosował środki higieny i bezpieczeństwa z
 godne z wytycznymi Ministerstwa Kultury i Głównego Inspektora Sanitarneg
 o w sprawie organizacji imprez kulturalnych i rozrywkowych w trakcie epide
 mii wirusa SARS-CoV-2 w Polsce” min:\n-) noś maseczkę w ciągach komun
 ikacyjnych\n-) zachowaj dystans 2m\n-) pozostań przy stoliku\n-) obowiąz
 kowa dezynfekcja dłoni przy wejściu do klubu\n-) w wydarzeniu mogą wzi
 ąć udział osoby \, które nie przebywają na kwarantannie\, nie mają o
 znak choroby Covid-19 (kaszel\, gorączka\, problemy z oddychaniem ) a tak
 że według swojej najlepszej wiedzy nie miały bezpośredniego kontaktu z
  osobą zarażoną .\n-) zachęcamy do płatności bezgotówkowych
ATTACH;FMTTYPE=image/jpeg:https://night4u.pl/wp-content/uploads/2021/08/18
 6759_image_239400215_2224582977684657_7072310377480988663_n.jpg
CATEGORIES:mazowieckie
LOCATION:Explosion Club Radom\, ul. Wernera 10 ( róg Szarych Szeregów)\, 
 Radom\, 26-610\, Poland
GEO:51.409191;21.144698
X-APPLE-STRUCTURED-LOCATION;VALUE=URI;X-ADDRESS=ul. Wernera 10 ( róg Szary
 ch Szeregów)\, Radom\, 26-610\, Poland;X-APPLE-RADIUS=100;X-TITLE=Explosi
 on Club Radom:geo:51.409191,21.144698
END:VEVENT
BEGIN:VTIMEZONE
TZID:Europe/Warsaw
X-LIC-LOCATION:Europe/Warsaw
BEGIN:DAYLIGHT
DTSTART:20210328T030000
TZOFFSETFROM:+0100
TZOFFSETTO:+0200
TZNAME:CEST
END:DAYLIGHT
END:VTIMEZONE
END:VCALENDAR