BEGIN:VCALENDAR
VERSION:2.0
PRODID:-//wp-events-plugin.com//7.2.3.1//EN
TZID:Europe/Warsaw
X-WR-TIMEZONE:Europe/Warsaw
BEGIN:VEVENT
UID:15257@night4u.pl
DTSTART;TZID=Europe/Warsaw:20190524T230000
DTEND;TZID=Europe/Warsaw:20190525T060000
DTSTAMP:20190509T093547Z
URL:https://night4u.pl/wydarzenia/27-nation-army-dj-bajo-pedro-drums/
SUMMARY:27 Nation Army / DJ BAJO & Pedro (drums)
DESCRIPTION:Kolejna levelowa bitwa przed nami! \nDrużyna Level 27 Warsaw w
 zywa właśnie Ciebie!\nNasza armia będzie walczyć przez całą noc. \nW
  tej bitwie wygrywają wszyscy! Podejmiesz wyzwanie? :) \n\nIt's time for 
 the next battle on the rooftop of Warsaw!\nLevel 27 Warsaw Army calls you!
  \nEveryone wins in our battle. Will you take the challenge? \;)\n\nMusic:
  Dj Bajo\nLive act: Pedro (drums)\nFB list free till 00:00 (click "going" 
 till 21:00)\nDress code: Casual \nEntrance: 20 pln\n\n*** Club Cards condi
 tions ***\nMember - free entrance + 1\nFriends - free entrance + 3\nVIP - 
 free entrance + friends\nWorld's Finest Clubs holders + 5
ATTACH;FMTTYPE=image/jpeg:https://night4u.pl/wp-content/uploads/2019/05/37
 708_image_59863280_2054284801533152_1339409014663938048_o.jpg
CATEGORIES:mazowieckie
LOCATION:Level 27 Warsaw\, Al. Jerozolimskie 123 A\, Warsaw\, 02-017\, Pola
 nd
GEO:52.22499;20.99128
X-APPLE-STRUCTURED-LOCATION;VALUE=URI;X-ADDRESS=Al. Jerozolimskie 123 A\, W
 arsaw\, 02-017\, Poland;X-APPLE-RADIUS=100;X-TITLE=Level 27 Warsaw:geo:52.
 22499,20.99128
END:VEVENT
BEGIN:VTIMEZONE
TZID:Europe/Warsaw
X-LIC-LOCATION:Europe/Warsaw
BEGIN:DAYLIGHT
DTSTART:20190331T030000
TZOFFSETFROM:+0100
TZOFFSETTO:+0200
TZNAME:CEST
END:DAYLIGHT
END:VTIMEZONE
END:VCALENDAR