BEGIN:VCALENDAR
VERSION:2.0
PRODID:-//wp-events-plugin.com//7.2.3.1//EN
TZID:Europe/Warsaw
X-WR-TIMEZONE:Europe/Warsaw
BEGIN:VEVENT
UID:48428@night4u.pl
DTSTART;TZID=Europe/Warsaw:20200228T220000
DTEND;TZID=Europe/Warsaw:20200229T030000
DTSTAMP:20200228T190439Z
URL:https://night4u.pl/wydarzenia/28-02-%e2%80%a2-zima-mija-a-ja-niczyja-f
 b-party-w-clubie-carmel-3/
SUMMARY:28/02 • Zima Mija a Ja Niczyja / Fb Party W Clubie Carmel
DESCRIPTION:Impreza z cyklu :\nZIMA MIJA A JA NICZYJA ❌⭕️\n\nPotwierd
 ź Udział w wydarzeniu i wejdź za free * \nhttps://facebook.com/events/8
 05900653565072/\nLista oraz regulamin przed imprezą!\n\nKażdy kto bierze
  udział w konkursie akceptuje warunki i wyraża zgodę na publikacje list
 y zwycięzców z imienia i nazwiska na stronie \ngłównej.\n\n\n✖ START
 : 22:00 ✖\nWSTĘP — LISTA FB WSTĘP WOLNY DO 23:00 / \nReszta - 10 zł
 +\nDress: smart casual\n\nDJ's:\n✯ HOOQ | BIRCH\n\nMusic: Commercial / V
 ocal House / RnB | Disco Polo\n\nRezerwacje miejsc:\n☎ 500 766 626
ATTACH;FMTTYPE=image/jpeg:https://night4u.pl/wp-content/uploads/2020/02/16
 5528_image_87435967_3087294061282687_2506750494009982976_n.jpg
CATEGORIES:podkarpackie
LOCATION:Carmel Club Caffe\, Słowackiego 24\, Jarosław\, 37-500\, Poland
GEO:50.013561;22.67772
X-APPLE-STRUCTURED-LOCATION;VALUE=URI;X-ADDRESS=Słowackiego 24\, Jarosław
 \, 37-500\, Poland;X-APPLE-RADIUS=100;X-TITLE=Carmel Club Caffe:geo:50.013
 561,22.67772
END:VEVENT
BEGIN:VTIMEZONE
TZID:Europe/Warsaw
X-LIC-LOCATION:Europe/Warsaw
BEGIN:STANDARD
DTSTART:20191027T020000
TZOFFSETFROM:+0200
TZOFFSETTO:+0100
TZNAME:CET
END:STANDARD
END:VTIMEZONE
END:VCALENDAR