BEGIN:VCALENDAR
VERSION:2.0
PRODID:-//wp-events-plugin.com//7.2.3.1//EN
TZID:Europe/Warsaw
X-WR-TIMEZONE:Europe/Warsaw
BEGIN:VEVENT
UID:49217@night4u.pl
DTSTART;TZID=Europe/Warsaw:20200328T210000
DTEND;TZID=Europe/Warsaw:20200329T060000
DTSTAMP:20200323T052132Z
URL:https://night4u.pl/wydarzenia/28-03-lets-party-baccaratclub-dj-catz/
SUMMARY:28.03 Let's Party @Baccaratclub DJ CATZ
DESCRIPTION:28.03 Let's Party @Baccaratclub DJ CATZ\n\nZMOBILIZUJCIE SIŁY 
 NA IMPREZĘ!!!\nCatZ DJ\n\n Odwiedź nasz klub i na własnych uszach przek
 onaj się jaki styl muzyczny tego wieczoru zawładnie twoim ciałem i umys
 łem. Właśnie tak!!!\nPo pierwszym razie nie będziecie chcieli przesta
 ć.\nBo my Jesteśmy uzależniający!!\nCały czas bujamy i luzujemy. Wbij
 ajcie na parkiet\, gdy macie coś do powiedzenia – wytańczcie to.!!!!!!
 \n\n*\nJak zdobyć wejściówkę?\n*\nJeśli chcesz zaproszenie na imprez
 ę oraz masz ochotę na powitalnego drinka od klubu\, wyślij maila z: dat
 ą imprezy\, Twoim imieniem i nazwiskiem\, oraz imionami i nazwiskami znaj
 omych\, których chciałbyś zabrać ze sobą na adres: INFO@BACCARATCLUB.
 PL\n*\nBACCARAT TO MIEJSCE DLA LUDZI Z CHARAKTEREM\nLET THE SHOW BEGIN!!!!
 !\n*\nINFO I REZERWACJA\nINFO@BACCARATCLUB.PL\nTEL :695 116 760\nWWW.BACCA
 RATCLUB.PL\nwww.baccaratmusicclub.blogspot.com\n\n \n\nWejscie do klubu FR
 EE tylko z listy gosci !!!!
ATTACH;FMTTYPE=image/jpeg:https://night4u.pl/wp-content/uploads/2020/03/17
 0443_image_88210269_3793746550665408_5661145445955534848_n.jpg
CATEGORIES:małopolskie
LOCATION:Baccarat Club\, ul. Stolarska 13\, Kraków\, 31-043\, Poland
GEO:50.05978;19.93865
X-APPLE-STRUCTURED-LOCATION;VALUE=URI;X-ADDRESS=ul. Stolarska 13\, Kraków\
 , 31-043\, Poland;X-APPLE-RADIUS=100;X-TITLE=Baccarat Club:geo:50.05978,19
 .93865
END:VEVENT
BEGIN:VTIMEZONE
TZID:Europe/Warsaw
X-LIC-LOCATION:Europe/Warsaw
BEGIN:STANDARD
DTSTART:20191027T020000
TZOFFSETFROM:+0200
TZOFFSETTO:+0100
TZNAME:CET
END:STANDARD
BEGIN:DAYLIGHT
DTSTART:20200329T030000
TZOFFSETFROM:+0100
TZOFFSETTO:+0200
TZNAME:CEST
END:DAYLIGHT
END:VTIMEZONE
END:VCALENDAR