BEGIN:VCALENDAR
VERSION:2.0
PRODID:-//wp-events-plugin.com//7.2.3.1//EN
TZID:Europe/Warsaw
X-WR-TIMEZONE:Europe/Warsaw
BEGIN:VEVENT
UID:11762@night4u.pl
DTSTART;TZID=Europe/Warsaw:20190428T210000
DTEND;TZID=Europe/Warsaw:20190429T030000
DTSTAMP:20190510T100310Z
URL:https://night4u.pl/wydarzenia/28-04-%e2%80%a2%e2%97%8f%e2%97%8f%e2%80%
 a2-bialoruska-hulanka-na-welikden-%e2%80%a2%e2%97%8f%e2%97%8f%e2%80%a2-eli
 xir-club/
SUMMARY:28.04 •●●• Białoruska Hulanka Na Welikdeń •●●• El
 ixir Club
DESCRIPTION:?Wielkanoc z Elixir?\n\nJuż 28 kwietnia  (NIEDZIELA) zapraszam
 y Was na Zabawę Świąteczną na Welikdeń. Tego wieczoru wystąpi równi
 eż zespół DOBRYJE GRAJKI. Najedzeni po świątecznej uczcie przybywajci
 e licznie spalić kalorie przy wschodnich nutkach.\n\nElixir Club specjaln
 ie dla Was utworzył nowy cykl imprez białoruskich. Cyklicznie organizuje
 my Białoruskie Hulanki! Zawitaj do nowo otwartego klubu Elixir!  \n\nBILE
 TY WSTĘPU DO NABYCIA W DNIU IMPREZY  PRZY KASIE \nW CENIE 20PLN\n\nLUB\nW
  PRZEDSPRZEDAŻ ON-LINE:\nI PULA 10 PLN\nII PULA 15 PLN\n\n\nKlienci z bil
 etami ON-LINE wchodzą z pierwszeństwem (odzielna kolejka)\n\n★★★
 ★★★★★★★★★★★★★★★★★★★★★★★★
 ★★★\n\nImprezę poprowadzi nasz NOWY rezydent DJ Positivee\, który 
 zapewni dawkę dobrej klubowej muzyki❗️?\n\n► Miejsce: Elixir Club u
 l. Lipowa 30 ?\n\n► Data: 28.04.2019 ?\n\n► Start: 21:00 ?\n\n► WEJ
 ŚCIE: od rocznika 2003\n\n► Dresscode: elegant/no-sport. ?\n\nRezerwacj
 a loży: 570-590-120\n—————————————————
 ———————-\n\nMiejsce\, w którym odbędzie się impreza to no
 wo otwarty ELIXIR CLUB\, mieszczący się przy ul. Lipowej 30. Lokal\, kt
 óry jest po kapitalnym remoncie posiada najnowsze technologie oświetleni
 a i nagłośnienia. Nasi rezydenci zadbają o najlepszą oprawę muzyczną
  w Białymstoku! W trakcie imprezy spróbujecie także świetnych drinków
  w atrakcyjnych cenach!\n\n———————————————
 —————————-\n\nKlub zastrzega prawo do selekcji gości. W
 chodząc\, akceptujesz regulamin klubu (m.in publikowanie zdjęć i filmó
 w)\n\nTo będzie niezapomniana noc! ?
ATTACH;FMTTYPE=image/jpeg:https://night4u.pl/wp-content/uploads/2019/04/30
 214_image_55549749_2236854263045752_7962790253486407680_o.jpg
CATEGORIES:podlaskie
LOCATION:Elixir Club\, ul. Lipowa 30\, Białystok\, 15-427\, Poland
GEO:53.13423;23.1484
X-APPLE-STRUCTURED-LOCATION;VALUE=URI;X-ADDRESS=ul. Lipowa 30\, Białystok\
 , 15-427\, Poland;X-APPLE-RADIUS=100;X-TITLE=Elixir Club:geo:53.13423,23.1
 484
END:VEVENT
BEGIN:VTIMEZONE
TZID:Europe/Warsaw
X-LIC-LOCATION:Europe/Warsaw
BEGIN:DAYLIGHT
DTSTART:20190331T030000
TZOFFSETFROM:+0100
TZOFFSETTO:+0200
TZNAME:CEST
END:DAYLIGHT
END:VTIMEZONE
END:VCALENDAR