BEGIN:VCALENDAR
VERSION:2.0
PRODID:-//wp-events-plugin.com//7.2.3.1//EN
TZID:Europe/Warsaw
X-WR-TIMEZONE:Europe/Warsaw
BEGIN:VEVENT
UID:47933@night4u.pl
DTSTART;TZID=Europe/Warsaw:20200628T210000
DTEND;TZID=Europe/Warsaw:20200629T040000
DTSTAMP:20200524T164859Z
URL:https://night4u.pl/wydarzenia/28-06-%e2%9c%a6-wielkie-plenerowe-rozpoc
 zecie-wakacji-%e2%9c%a6-radosc/
SUMMARY:28.06 ✦ Wielkie Plenerowe Rozpoczęcie Wakacji ✦ Radość
DESCRIPTION:To stało się już tradycja… Rozpoczęcie Wakacji po raz kol
 ejny będziemy świętowali na świeżym powietrzu! Dwie sceny muzyczne\, 
 basen\, leżaki oraz najlepsi Dj’e a to wszystko w samym centrum miasta 
 – tak w skrócie możemy opisać Wam to co Was czeka 28 czerwca w Lublin
 ie! Chcecie wiedzieć co będzie się działo na największym melanżu 202
 0 roku ? Usiądźcie wygodnie i czytajcie dalej!\n\n▬▬▬▬▬▬▬
 ▬▬▬▬▬▬▬▬▬▬▬▬▬▬▬▬▬▬▬\n\nTym razem wak
 acje przywitamy na terenie waszej ukochanej\, letniej miejscówki – KLUB
 IE RADOŚĆ! Jako\, że jest to już nasze TRZECIE plenerowe rozpoczęcie 
 lata bądźcie gotowi na :\n\n✦ DWIE SCENY MUZYCZNE ( SCENA GŁÓWNA ora
 z HALA AFTER PARTY)\n✦ POOL PARTY\n✦ POKAZ PIROTECHNIKI SCENICZNEJ\n
 ✦ STREFĘ CHILLOUT\n\n--------------------------------------------------
 ----------------------------\n\nSCENA GŁÓWNA ( House\, Future House\, ED
 M )\n★\n★\n★\n\n\nHALA AFTER PARTY ( Trap / rap / r&b )\n★\n★\n
 ★\n \n▬▬▬▬▬▬▬▬▬▬▬▬▬▬▬▬▬▬▬▬▬▬
 ▬▬▬▬\n\nCzyli tak:\n► Data : 28.06.2020\n► Start : 21.00\n► 
 Miejsce : Radość | ul. Bernardyńska 15\n► Bilety : \nI PULA -15 PLN \
 nII PULA – ??\nIII PULA - ??\n\n▬▬▬▬▬▬▬▬▬▬▬▬▬
 ▬▬▬▬▬▬▬▬▬▬▬▬▬\n\nWejście od rocznika 04’\nDo 
 Zobaczenia ♥
ATTACH;FMTTYPE=image/jpeg:https://night4u.pl/wp-content/uploads/2020/02/16
 1482_image_86800432_1962483827229027_6068279199968264192_o.jpg
CATEGORIES:lubelskie
LOCATION:Radość\, ul. Bernardyńska 15\, Lublin\, 20-950\, Poland
GEO:51.24424;22.5673
X-APPLE-STRUCTURED-LOCATION;VALUE=URI;X-ADDRESS=ul. Bernardyńska 15\, Lubl
 in\, 20-950\, Poland;X-APPLE-RADIUS=100;X-TITLE=Radość:geo:51.24424,22.5
 673
END:VEVENT
BEGIN:VTIMEZONE
TZID:Europe/Warsaw
X-LIC-LOCATION:Europe/Warsaw
BEGIN:DAYLIGHT
DTSTART:20200329T030000
TZOFFSETFROM:+0100
TZOFFSETTO:+0200
TZNAME:CEST
END:DAYLIGHT
END:VTIMEZONE
END:VCALENDAR