BEGIN:VCALENDAR
VERSION:2.0
PRODID:-//wp-events-plugin.com//7.2.3.1//EN
TZID:Europe/Warsaw
X-WR-TIMEZONE:Europe/Warsaw
BEGIN:VEVENT
UID:51255@night4u.pl
DTSTART;TZID=Europe/Warsaw:20210828T200000
DTEND;TZID=Europe/Warsaw:20210829T043000
DTSTAMP:20210827T135931Z
URL:https://night4u.pl/wydarzenia/28-08-sobota-kizo-nasze-lato-tour-prison
 ers-show-zakonczenie-wakacji-mega-music-wilga/
SUMMARY:28.08/SOBOTA/KIZO-NASZE LATO TOUR/PRISONERS SHOW/ZAKOŃCZENIE WAKAC
 JI/MEGA MUSIC WILGA
DESCRIPTION:ODPALAMY NAJWIĘKSZE WYDARZENIE ROKU W MEGA MUSIC 🔥❤️\n\
 n\nTEGO WIECZORU MUSISZ BYĆ Z NAMI 🙌🏻\n\n\nJuż 28 sierpnia przygot
 owaliśmy dla Was najmocniejsze zakończenie wakacji 2021 🔥🙌🏻\n\n
 \nNa naszej letniej scenie wystąpi bezapelacyjny król tego lata\, raper 
 generujący miliony wyświetleń\, członek projektu CHILLWAGON\, osoba ro
 zpalająca sceny i festiwale w całej Polsce: \n\n\n🔥 KIZO 🔥\n\n\nZn
 any z utworów takich jak: \n\n👉🏻 DISNEY\n\n👉🏻 NASZE LATO\n\n
 👉🏻 LUCKY PUNCH \n\n👉🏻 CZEMPION\n\n👉🏻 KRÓL BALU \n\n👉
 🏻 ŻYCIE JEST PIĘKNE \n\n👉🏻 SKIETY KLAPKI\n\n\nNa sali klubowej 
 przygotujcie się również na ostry balet🌪😈🥵\n\n \n\nWystąpi dl
 a Was najbardziej szalony duet polskiej muzyki klubowej: \n\n\nPRISONERS S
 HOW 🔥😈\n\n\nZa sterami nie zabraknie również naszych rezydentów:\
 n\n👉🏻DJ DIAMOND\n\n👉🏻DJ MAXIMUS \n\n\n\nWidzimy się w Wildze 
 ! ✌🏻❤️\n\n\n*Wydarzenie odbywa  z zachowaniem wszystkich środkó
 w bezpieczeństwa i wytycznych sanitarnych. \n\n\n*Pamiętaj o zachowywani
 u dystansu społecznego i zakładaniu maseczek podczas\n\n wejścia do pom
 ieszczeń. \n\nNie zapominajcie tez o dezynfekcji 😉\n\n\nWchodząc na t
 eren klubu automatycznie akceptujesz regulamin oraz oświadczasz\, że:\n\
 n-Nie jesteś chory na COVID-19\n\n-Nie jesteś objęty kwarantanną w zwi
 ązku z COVID-19\n\n-Nie miałeś kontaktu z osobą chorą lub objętą kw
 arantanną w związku z COVID –19 w ostatnich 14 dniach
ATTACH;FMTTYPE=image/jpeg:https://night4u.pl/wp-content/uploads/2021/08/18
 6753_image_239606773_6043672975702836_5337246653664410261_n.jpg
CATEGORIES:mazowieckie
LOCATION:Mega Music Wilga (Oficjalne konto klubu)\, Stawowa 9\, Wilga\, 08-
 470\, Poland
GEO:51.84353;21.386362
X-APPLE-STRUCTURED-LOCATION;VALUE=URI;X-ADDRESS=Stawowa 9\, Wilga\, 08-470\
 , Poland;X-APPLE-RADIUS=100;X-TITLE=Mega Music Wilga (Oficjalne konto klub
 u):geo:51.84353,21.386362
END:VEVENT
BEGIN:VTIMEZONE
TZID:Europe/Warsaw
X-LIC-LOCATION:Europe/Warsaw
BEGIN:DAYLIGHT
DTSTART:20210328T030000
TZOFFSETFROM:+0100
TZOFFSETTO:+0200
TZNAME:CEST
END:DAYLIGHT
END:VTIMEZONE
END:VCALENDAR