BEGIN:VCALENDAR
VERSION:2.0
PRODID:-//wp-events-plugin.com//7.2.3.1//EN
TZID:Europe/Warsaw
X-WR-TIMEZONE:Europe/Warsaw
BEGIN:VEVENT
UID:39047@night4u.pl
DTSTART;TZID=Europe/Warsaw:20191228T210000
DTEND;TZID=Europe/Warsaw:20191229T050000
DTSTAMP:20191227T215408Z
URL:https://night4u.pl/wydarzenia/28-12-aleja-bajkowych-gwiazd-2/
SUMMARY:28.12 - Aleja Bajkowych Gwiazd
DESCRIPTION:28.12 - ALEJA BAJKOWYCH GWIAZD\n\nGramy największe disco hity 
 2019!\n\nZagra: DJ LIZARD\n\nStart 21:00\, selekcja +18 lat\nWstęp 10 PLN
 \n\nLajkujcie nas i odwiedzajcie na:\nwww.bajkadiscoclub.pl\nwww.facebook.
 com/bajkadiscoclublodz\n\nBAJKA DISCO CLUB\nŁódź\, Piotrkowska 90.
ATTACH;FMTTYPE=image/jpeg:https://night4u.pl/wp-content/uploads/2019/12/11
 4179_image_78983232_1340569406120976_6825633855836258304_o.jpg
CATEGORIES:łódzkie
LOCATION:BAJKA DISCO CLUB Łódź\, Piotrkowska 90\, Łódź\, 90-103\, Pol
 and
GEO:51.76649;19.45728
X-APPLE-STRUCTURED-LOCATION;VALUE=URI;X-ADDRESS=Piotrkowska 90\, Łódź\, 
 90-103\, Poland;X-APPLE-RADIUS=100;X-TITLE=BAJKA DISCO CLUB Łódź:geo:51
 .76649,19.45728
END:VEVENT
BEGIN:VTIMEZONE
TZID:Europe/Warsaw
X-LIC-LOCATION:Europe/Warsaw
BEGIN:STANDARD
DTSTART:20191027T020000
TZOFFSETFROM:+0200
TZOFFSETTO:+0100
TZNAME:CET
END:STANDARD
END:VTIMEZONE
END:VCALENDAR