BEGIN:VCALENDAR
VERSION:2.0
PRODID:-//wp-events-plugin.com//7.2.3.1//EN
TZID:Europe/Warsaw
X-WR-TIMEZONE:Europe/Warsaw
BEGIN:VEVENT
UID:40130@night4u.pl
DTSTART;TZID=Europe/Warsaw:20191228T200000
DTEND;TZID=Europe/Warsaw:20191229T040000
DTSTAMP:20191228T083214Z
URL:https://night4u.pl/wydarzenia/28-12-sobota-mejk-urodzinowy-after-gashm
 akera-mega-music/
SUMMARY:28.12( sobota ) Mejk / Urodzinowy After Gashmakera / Mega Music
DESCRIPTION:28.12 Mega Wydarzenie ❗️\nGwiazdą wieczoru sali dance będ
 zie zespół\nMEJK ❗️\n😎Sala klubowa😎\nURODZINOWY AFTER GASHMAKE
 RA z 11 DJ ❗️\nGashmaker\nDąber\nFatboi\nCabay\nBenula\nSzpiczak\nKub
 aś\nPapol\nKoleq\nPapa\nBadylos\n\n⭐️BO MEGA IMPREZY TYLKO W MEGA MUS
 IC WILGA⭐️
ATTACH;FMTTYPE=image/jpeg:https://night4u.pl/wp-content/uploads/2019/12/12
 0974_image_79839557_3426292650774228_3902885448149630976_o.jpg
CATEGORIES:mazowieckie
LOCATION:Mega Music Wilga (Oficjalne konto klubu)\, Stawowa 9\, Wilga\, 08-
 470\, Poland
GEO:51.84353;21.386362
X-APPLE-STRUCTURED-LOCATION;VALUE=URI;X-ADDRESS=Stawowa 9\, Wilga\, 08-470\
 , Poland;X-APPLE-RADIUS=100;X-TITLE=Mega Music Wilga (Oficjalne konto klub
 u):geo:51.84353,21.386362
END:VEVENT
BEGIN:VTIMEZONE
TZID:Europe/Warsaw
X-LIC-LOCATION:Europe/Warsaw
BEGIN:STANDARD
DTSTART:20191027T020000
TZOFFSETFROM:+0200
TZOFFSETTO:+0100
TZNAME:CET
END:STANDARD
END:VTIMEZONE
END:VCALENDAR