BEGIN:VCALENDAR
VERSION:2.0
PRODID:-//wp-events-plugin.com//7.2.3.1//EN
TZID:Europe/Warsaw
X-WR-TIMEZONE:Europe/Warsaw
BEGIN:VEVENT
UID:48763@night4u.pl
DTSTART;TZID=Europe/Warsaw:20200229T210000
DTEND;TZID=Europe/Warsaw:20200301T040000
DTSTAMP:20200229T224318Z
URL:https://night4u.pl/wydarzenia/29-02%e2%98%86panie-przodem-%e2%98%86%e2
 %98%86%e2%98%86open-bar%e2%98%86/
SUMMARY:29.02☆Panie Przodem! ☆☆☆Open bar☆
DESCRIPTION:Na koniec miesiąca niespodzianka dla Pań! 😎\nTego wieczoru
  Panie mają u nas fory i do 23:00 wchodzą za darmoszkę ! ♥  \nGwarant
 ujemy najlepszą mieszankę imprezowych hitów z ostatnich lat \, niesamow
 itą atmosferę oraz wspaniałe drinki dla Pań!\nWeź udział w wydarzeni
 u i Skorzystaj z naszej oferty! \nW skrócie: \n↘️ Start 21:00\n↘️
  Panie wejście FREE do 23:00!\n↘️ Open Bar na drinki dla Pań do 22:0
 0!\n( wystarczy kliknąć: „ WEZMĘ UDZIAŁ”)\n↘️ Wiek 18+\n↘️
  Dj Mordziński\n↘️ fotorelacja z imprezy\n\nRezerwacja: ‭82 542 15 
 28‬
ATTACH;FMTTYPE=image/jpeg:https://night4u.pl/wp-content/uploads/2020/02/16
 6737_image_87099114_2754978211234548_4530818527342362624_o.jpg
CATEGORIES:lubelskie
LOCATION:Ground Club\, Pl Łuczkowskiego 11\, Chełm\, 22-100\, Poland
GEO:51.13286;23.47388
X-APPLE-STRUCTURED-LOCATION;VALUE=URI;X-ADDRESS=Pl Łuczkowskiego 11\, Che
 łm\, 22-100\, Poland;X-APPLE-RADIUS=100;X-TITLE=Ground Club:geo:51.13286,
 23.47388
END:VEVENT
BEGIN:VTIMEZONE
TZID:Europe/Warsaw
X-LIC-LOCATION:Europe/Warsaw
BEGIN:STANDARD
DTSTART:20191027T020000
TZOFFSETFROM:+0200
TZOFFSETTO:+0100
TZNAME:CET
END:STANDARD
END:VTIMEZONE
END:VCALENDAR