BEGIN:VCALENDAR
VERSION:2.0
PRODID:-//wp-events-plugin.com//7.2.3.1//EN
TZID:Europe/Warsaw
X-WR-TIMEZONE:Europe/Warsaw
BEGIN:VEVENT
UID:48912@night4u.pl
DTSTART;TZID=Europe/Warsaw:20200229T200000
DTEND;TZID=Europe/Warsaw:20200301T040000
DTSTAMP:20200229T224012Z
URL:https://night4u.pl/wydarzenia/29-02-%e2%98%85-sb-%e2%98%85-dont-stop-t
 he-music-with-dj-pex/
SUMMARY:29.02 ★ sb ★ Don't Stop The Music with DJ Pex
DESCRIPTION:Nie zatrzymujemy się🔥 Lecimy dalej ❤️\nSobotnia noc pod
  hasłem Don't Stop The Music\, to podsumowanie oraz celebracja weekendu 
 ❤️\nPodczas trwania postu\, zapraszamy Was kochani na sobotnie szaleń
 stwo w Broadway Club. \nPierwsze trzy czwartki (27.02\, 05.03\, 12.03) klu
 b nieczynny\, wszystkie piątki klub nieczynny\, a w soboty lecimy na maks
 a 🔥\n\nSobota to potężna dawka:\n🔈 electro\n🔈 remixes\n🔈 clu
 b\n🔈 top hits\n\n🎛 Za konsolą - DJ PEX\nLecimy na maksa 🔥\n\n❌
 ❌ W okresie Wielkiego Postu (środa\, 26 lutego - czwartek\, 9 kwietnia)
  ❌❌\n✅ w pierwsze trzy czwartki (27.02\, 05.03\, 12.03) klub nieczyn
 ny\n✅ w piątki klub nieczynny\n✅ w soboty klub otwarty\n\n___________
 _______________________________________\n\nStart: 20:00\n★ DRESS CODE 
 ★\nŁadnie\, schludnie\, ale nie sportowo\n\nWstęp / +18 SELEKCJA\n____
 ______________________________________________\n★ RESERVATIONS &amp\; SO
 CIAL MEDIA ★\n84 639 26 26 - info i rezerwacje\nInstagram: https://www.i
 nstagram.com/broadway_club_zamosc/\nFacebook: https://www.facebook.com/Bro
 adwayZamosc/\nYouTube: https://www.youtube.com/channel/UCWxbnJltCxH7XCAK7p
 ugMLA\n__________________________________________________\n★ CONTACT ★
 \nBroadway Club Zamość | Peowiaków 94\nbroadway-club.pl\n\nImprezy/cate
 ring/zamówienia/restauracja i ogólne zapytania:\nbroadway.klub@gmail.com
ATTACH;FMTTYPE=image/jpeg:https://night4u.pl/wp-content/uploads/2020/02/16
 7523_image_87299409_4058616940830596_722129103632728064_o.jpg
CATEGORIES:lubelskie
LOCATION:Broadway Club & Restaurant\, ul. Peowiaków 94\, Zamosc\, 22-400\,
  Poland
GEO:50.715726;23.261037
X-APPLE-STRUCTURED-LOCATION;VALUE=URI;X-ADDRESS=ul. Peowiaków 94\, Zamosc\
 , 22-400\, Poland;X-APPLE-RADIUS=100;X-TITLE=Broadway Club & Restaurant:ge
 o:50.715726,23.261037
END:VEVENT
BEGIN:VTIMEZONE
TZID:Europe/Warsaw
X-LIC-LOCATION:Europe/Warsaw
BEGIN:STANDARD
DTSTART:20191027T020000
TZOFFSETFROM:+0200
TZOFFSETTO:+0100
TZNAME:CET
END:STANDARD
END:VTIMEZONE
END:VCALENDAR