BEGIN:VCALENDAR
VERSION:2.0
PRODID:-//wp-events-plugin.com//7.2.3.1//EN
TZID:Europe/Warsaw
X-WR-TIMEZONE:Europe/Warsaw
BEGIN:VEVENT
UID:19691@night4u.pl
DTSTART;TZID=Europe/Warsaw:20190629T210000
DTEND;TZID=Europe/Warsaw:20190630T050000
DTSTAMP:20190619T105948Z
URL:https://night4u.pl/wydarzenia/29-06-%e2%98%86-zilion-summer-start-%e2%
 98%86-5-djs-soon-%e2%98%86-gramy-do-500-%e2%98%86/
SUMMARY:29.06 ☆ Zilion Summer Start ☆ 5 Dj's soon ☆ Gramy do 5:00 ☆
DESCRIPTION:? 29.06.2019 - Zilion CLUB - Wrzelowiec ?\n\nℹ W ostatni week
 end czerwca\, klub Zilion we Wrzelowcu zaprasza na potężną imprezę klu
 bową\, która jednocześnie będzie rozpoczęciem letniego sezonu wakacyj
 nego w naszym lokalu! ✅??\n\nUWAGA! Tej nocy wyjątkowo gramy do godziny
  5:00! ???\n\n✅ Weź udział w wydarzeniu i bądź na bieżąco z najnow
 szymi informacjami dotyczącymi imprezy! ?\n\n➡ Sala Klubowa\n\n☀ ZILI
 ON SUMMER START ☀\n\n⭐ Nina Suerte ⭐\n⭐ SOUND BASS ⭐\n⭐ DJ You
 rant ⭐\n⭐ Gashmaker ⭐\n⭐ Dąber ⭐\n____________________________\
 n? REZYDENCI ?\n\n? Sala KLUBOWA : ? DJ Lechu ? DJ HUDY\n? Sala DANCE : ? 
 \n____________________________\n⏰ START - 21:00\n? FOTORELACJA\n♥ ♥ 
 ♥ ♥ ♥ ♥ ♥ ♥ ♥ \nDO ZOBACZENIA W ZILIONIE❗??
ATTACH;FMTTYPE=image/jpeg:https://night4u.pl/wp-content/uploads/2019/06/47
 434_image_64638299_2543898198956788_2990758381595131904_o.jpg
CATEGORIES:lubelskie
LOCATION:Zilion CLUB - Wrzelowiec\, ul. Opolska 3\, Wrzelowiec\, 24-320\, P
 oland
GEO:51.097745;21.932795
X-APPLE-STRUCTURED-LOCATION;VALUE=URI;X-ADDRESS=ul. Opolska 3\, Wrzelowiec\
 , 24-320\, Poland;X-APPLE-RADIUS=100;X-TITLE=Zilion CLUB - Wrzelowiec:geo:
 51.097745,21.932795
END:VEVENT
BEGIN:VTIMEZONE
TZID:Europe/Warsaw
X-LIC-LOCATION:Europe/Warsaw
BEGIN:DAYLIGHT
DTSTART:20190331T030000
TZOFFSETFROM:+0100
TZOFFSETTO:+0200
TZNAME:CEST
END:DAYLIGHT
END:VTIMEZONE
END:VCALENDAR