BEGIN:VCALENDAR
VERSION:2.0
PRODID:-//wp-events-plugin.com//7.2.3.1//EN
TZID:Europe/Warsaw
X-WR-TIMEZONE:Europe/Warsaw
BEGIN:VEVENT
UID:19960@night4u.pl
DTSTART;TZID=Europe/Warsaw:20190629T200000
DTEND;TZID=Europe/Warsaw:20190630T040000
DTSTAMP:20190621T200955Z
URL:https://night4u.pl/wydarzenia/29-06-koncert-roku-slawomir-w-mega-music
 -wilga/
SUMMARY:29.06 Koncert Roku ! Sławomir w Mega Music Wilga !
DESCRIPTION:29.06 KONCERT ROKU ❗️\n⭐️SŁAWOMIR W MEGA MUSIC Wilga 
 ⭐️❗️❗️❗️\nWielkie Show \, Największe Hity ❗️\n▶️M
 iłość w Zakopanem - prawie 200 milionów wyświetleń\nhttps://www.yout
 ube.com/watch?v=n2hJA78YuWw\n▶️Ty mała znów zarosłaś - 62 miliony 
 wyświetleń\nhttps://www.youtube.com/watch?v=XQ2LT7QcTeg\n▶️Megiera\n
 https://www.youtube.com/watch?v=kZT-pFb4Fa8\n\n? Sala letnia na powietrzu 
 ?\n? Sala klubowa ?\nMega Kompleks ogródków letnich? z letnim barem? i g
 rillem\n\n⭐️BO MEGA IMPREZY TYLKO W MEGA MUSIC WILGA⭐️
ATTACH;FMTTYPE=image/jpeg:https://night4u.pl/wp-content/uploads/2019/06/48
 034_image_64503483_2882957511774414_6185551422264705024_o.jpg
CATEGORIES:mazowieckie
LOCATION:Mega Music Wilga (Oficjalne konto klubu)\, Stawowa 9\, Wilga\, 08-
 470\, Poland
GEO:51.84353;21.386362
X-APPLE-STRUCTURED-LOCATION;VALUE=URI;X-ADDRESS=Stawowa 9\, Wilga\, 08-470\
 , Poland;X-APPLE-RADIUS=100;X-TITLE=Mega Music Wilga (Oficjalne konto klub
 u):geo:51.84353,21.386362
END:VEVENT
BEGIN:VTIMEZONE
TZID:Europe/Warsaw
X-LIC-LOCATION:Europe/Warsaw
BEGIN:DAYLIGHT
DTSTART:20190331T030000
TZOFFSETFROM:+0100
TZOFFSETTO:+0200
TZNAME:CEST
END:DAYLIGHT
END:VTIMEZONE
END:VCALENDAR