BEGIN:VCALENDAR
VERSION:2.0
PRODID:-//wp-events-plugin.com//7.2.3.1//EN
TZID:Europe/Warsaw
X-WR-TIMEZONE:Europe/Warsaw
BEGIN:VEVENT
UID:1467@night4u.pl
DTSTART;TZID=Europe/Warsaw:20181229T210000
DTEND;TZID=Europe/Warsaw:20181230T030000
DTSTAMP:20181228T234517Z
URL:https://night4u.pl/wydarzenia/29-12-2018-koncert-extazy/
SUMMARY:29.12.2018 - Koncert: Extazy
DESCRIPTION:29.12.2018 (sobota) - Koncert zespołu: EXTAZY "Podryw Party".\
 nhttps://www.facebook.com/zespolextazy/\n\nDziękujemy za udane święta \
 ;) Nie zwalniamy tempa i zapraszamy Was na ostatnią imprezę w roku 2018.
 \n\nTej nocy specjalnie dla Was koncert zespołu EXTAZY. Panie i Panowie p
 odczas imprezy wszyscy się przekonamy czy rzeczywiście "Noc Taka Czarna"
 .\n\nObowiązkowo zakładamy modne ciuszki\, markowe perfumy\, robimy się
  na bóstwo i wbijamy do klubu na tzw. "Podryw Party". Oj będzie się dzi
 ało :)\n\nImprezę poprowadzą:\nZABAWA TANECZNA: DJ ADAMS\nSCENA KLUBOWA
 : DJ IRVIN\n\nBilety: 15 PLN\n\nKonkurs:\nUdostępnij plakat i WYGRAJ w dr
 odze losowania BEZPŁATNY BILET WSTĘPU.
ATTACH;FMTTYPE=image/jpeg:https://night4u.pl/wp-content/uploads/2018/12/68
 25_image_48394057_1942837092479383_6360606420869578752_o.jpg
CATEGORIES:lubelskie
END:VEVENT
BEGIN:VTIMEZONE
TZID:Europe/Warsaw
X-LIC-LOCATION:Europe/Warsaw
BEGIN:STANDARD
DTSTART:20181028T020000
TZOFFSETFROM:+0200
TZOFFSETTO:+0100
TZNAME:CET
END:STANDARD
END:VTIMEZONE
END:VCALENDAR