BEGIN:VCALENDAR
VERSION:2.0
PRODID:-//wp-events-plugin.com//7.2.3.1//EN
TZID:Europe/Warsaw
X-WR-TIMEZONE:Europe/Warsaw
BEGIN:VEVENT
UID:51209@night4u.pl
DTSTART;TZID=Europe/Warsaw:20210827T230000
DTEND;TZID=Europe/Warsaw:20210828T070000
DTSTAMP:20210827T133029Z
URL:https://night4u.pl/wydarzenia/3-kings-x-prozak-2-0/
SUMMARY:3 Kings x Prozak 2.0
DESCRIPTION:Trzej Królowie powracają na parkiet poziomu -1 by podgrzać a
 tmosferę jeszcze bardziej! Tym razem za mocne uderzenie bassem prosto w s
 zczękę odpowiadać będzie lokalny skład\, który wie jak podpalać Pro
 zaka nie od dziś 🌶 A\, dodać warto\, że jeden z 3 Króli chyba na do
 bre zadomowił sie za djką -1\, zróbcie hałas ponownie dla JiGGly!\n
 🆘 IMPREZA PODWYŻSZONEGO RYZYKA 🆘\n\n🥊  JiGGly\n🥊  Zesty\n🥊
   Zebra\n\nWEJŚCIE:\nWstęp od 23:00 | Cena 20/30 PLN*/Karty klubowe 10 P
 LN | Selekcja\nSoundsystem: Funktion1\n\n*Cena może ulec zmianie w zależ
 ności od ilości osób obecnych w klubie (restrykcje COVID-19)
ATTACH;FMTTYPE=image/jpeg:https://night4u.pl/wp-content/uploads/2021/08/18
 6651_image_233521071_4289693511091365_6818085962331269060_n.jpg
CATEGORIES:małopolskie
LOCATION:Prozak 2.0\, Plac Dominikański 6\, Kraków\, 31-032\, Poland
GEO:50.058986;19.938203
X-APPLE-STRUCTURED-LOCATION;VALUE=URI;X-ADDRESS=Plac Dominikański 6\, Krak
 ów\, 31-032\, Poland;X-APPLE-RADIUS=100;X-TITLE=Prozak 2.0:geo:50.058986,
 19.938203
END:VEVENT
BEGIN:VTIMEZONE
TZID:Europe/Warsaw
X-LIC-LOCATION:Europe/Warsaw
BEGIN:DAYLIGHT
DTSTART:20210328T030000
TZOFFSETFROM:+0100
TZOFFSETTO:+0200
TZNAME:CEST
END:DAYLIGHT
END:VTIMEZONE
END:VCALENDAR