BEGIN:VCALENDAR
VERSION:2.0
PRODID:-//wp-events-plugin.com//7.2.3.1//EN
TZID:Europe/Warsaw
X-WR-TIMEZONE:Europe/Warsaw
BEGIN:VEVENT
UID:31252@night4u.pl
DTSTART;TZID=Europe/Warsaw:20191108T210000
DTEND;TZID=Europe/Warsaw:20191111T060000
DTSTAMP:20191009T200631Z
URL:https://night4u.pl/wydarzenia/3-lata-w-zwiazku-z-wami-czyli-skorzane-g
 ody-clubu-wesele/
SUMMARY:3 lata w związku z Wami czyli Skórzane Gody Clubu Wesele
DESCRIPTION:3 lata‼️ - 3 dni Wesela🔥🔥🔥\nHej Wesele \, Hej Wese
 le tańcowało ...\n\n💃🏿🔥🥂🍾🥒❣️🎉🎀🎁🎊🍷
 🥂🎂🍾🕺🏿\n\nDzisiaj wieść mamy niesłychaną\, bo obchodzimy
  z Wami rocznicę Skórzaną👌. \nZ tej okazji ślemy Wam podziękowania
  za te 3 lata wspólnego balowania 💃❤️🕺🏿\nBądźmy razem wci
 ąż szczęśliwi\,😍\nBądźcie tak kochani i tak prawdziwi👌\n\nMamy
  zaszczyt zaprosić Was w imieniu \nPaństwa Młodych \,Wodzireja \, Księ
 dza i Strażaka 🚒 oraz \nZespołu DAJ TO GŁOŚNIEJ \,MIŁEGO PANA \, D
 -BOMB-a oraz ŁOBUZÓW i reszty naszej weselnej świty:\n\n👇👇👇
 👇👇👇👇👇👇👇👇👇👇👇\n\njuż 8\, 9\, 10 listopad 2
 019 🔥🔥🔥\nNa wspólną zabawę z okazji naszej 3 rocznicy związku
  z Wami 💃🏿❤️🕺\n\n❤️wesele piątek\, sobota i niedziela
 👌\n❤️ Start 21:00 i gramy do rana👌\n❤️21:00-22:00 wjazd 1 ze
 ta\n❤️ Bez koperty📩\n❤️ Bez kwiatów 💐\n❤️ Bez krawatów
 👔\n❤️ Wesele dla Wszystkich💃🕺🏿\n❤️ Wpraszajcie się 
 🥂\n\nPierwsze 200 osób otrzyma od nas upominek niespodziankę!!!🎁\n
 \nW programie:\n\n❤️koncert Gwiazdy wieczoru🎸🥁🎺\n❤️wspól
 ne tańce💃🕺🏿\n❤️śpiewańce hulańce🎤🎼\n❤️oberki  w
 szelakie💑\n❤️pociągi i kuligi 🚂🚂🚂\n❤️konkursy gry i z
 abawy🎈🎈\n❤️odbijany🎭\n❤️oczepiny 💐\n❤️wspólny toa
 st szampananem🥂\n\nA kto z nami nie wypije \, tego we dwa kije...\nBo t
 akiego Weseliska było ziemi mało...\n\nRezerwacje 602 762 764 ☎️\nEl
 a z Wesela🥰\n\nPatronem medialnym wydarzenia jest \nRadio Vox FM
ATTACH;FMTTYPE=image/jpeg:https://night4u.pl/wp-content/uploads/2019/10/72
 648_image_71790703_508347709897819_4998173705734455296_n.jpg
CATEGORIES:dolnośląskie
END:VEVENT
BEGIN:VTIMEZONE
TZID:Europe/Warsaw
X-LIC-LOCATION:Europe/Warsaw
BEGIN:STANDARD
DTSTART:20191027T020000
TZOFFSETFROM:+0200
TZOFFSETTO:+0100
TZNAME:CET
END:STANDARD
END:VTIMEZONE
END:VCALENDAR