BEGIN:VCALENDAR
VERSION:2.0
PRODID:-//wp-events-plugin.com//7.2.3.1//EN
TZID:Europe/Warsaw
X-WR-TIMEZONE:Europe/Warsaw
BEGIN:VEVENT
UID:6857@night4u.pl
DTSTART;TZID=Europe/Warsaw:20190501T100000
DTEND;TZID=Europe/Warsaw:20190504T030000
DTSTAMP:20190210T153132Z
URL:https://night4u.pl/wydarzenia/3-majowka-2019-spotkajmy-sie-we-wroclawi
 u/
SUMMARY:3-Majówka 2019 - spotkajmy się we Wrocławiu!
DESCRIPTION:SLADE\, TARJA TURUNEN\, KULT\, ØRGANEK\, ŁĄKI ŁAN \, PIDŻA
 MA PORNO\, NOCNY KOCHANEK\, DECAPITATED\, KRZYSZTOF ZALEWSKI\, ANIA DĄBRO
 WSKA\, HAPPYSAD\, IRA\, O.S.T.R.\, MELA KOTELUK\, MERY SPOLSKY\, PABLOPAVO
  i LUDZIKI\, THE DUMPLINGS\, projekt ALBO INACZEJ. FLIRTINI otwierają dł
 ugą listę wykonawców którzy wystąpią na 3-Majówce 2019 we Wrocławi
 u!\n\nTradycyjna już 3-Majówka we Wrocławiu rozpoczyna sezon plenerowyc
 h festiwali w Polsce. Co roku w długi majowy weekend w samym sercu Wrocł
 awia występują najlepsze zespoły z czołówek ogólnopolskich list popu
 larności\, weterani scen rockowych\, jak i nowe\, wschodzące gwiazdy.\n\
 nImpreza\, zgodnie ze swoją nazwą\, odbędzie się w dniach 1 - 3 maja 2
 019 r. Podobnie jak w ubiegłym roku zapraszamy na urokliwe tereny Pergoli
  w kompleksie wrocławskiej Hali Stulecia. W związku z remontem Hali Stul
 ecia koncerty w tym roku odbywać będą się na dwóch scenach plenerowyc
 h oraz mniejszej scenie nocnej w Centrum Konferencyjnym.\n\nOd kilku lat i
 mpreza połączona jest z Gitarowym Rekordem Guinnessa odbywającym się t
 radycyjnie 1 maja we Wrocławiu. Przypominamy\, że w ubiegłym  roku na w
 rocławskim Rynku zagrało razem 7411 gitarzystów\, a tym roku liczymy na
  więcej! Czekamy  na Was z gitarami :) \nDołącz do Największej Gitarow
 ej Orkiestry Świata: https://www.facebook.com/events/596849134079012/\n\n
 Do dyspozycji majówkowych gości spoza Wrocławia będzie również Festi
 walowe Pole Namiotowe położone w bezpośredniej bliskości miejsca konce
 rtów.\n\nDługi majowy weekend warto spędzić w stolicy Dolnego Śląska
  - spotkajmy się we Wrocławiu!\n\n1.05.19 start godz. 17.00 Pergola\, ul
  Wystawowa 1\, Wrocław\n3-Majówka 2019 - Dzień I\nSLADE\, ØRGANEK...\n
 \n2.05.19 start godz. 15.00 Pergola\, ul Wystawowa 1\, Wrocław\n3-Majówk
 a 2019 - Dzień II\nPIDŻAMA PORNO\, MELA KOTELUK\, ALBO INACZEJ...\n\n3.0
 5.19 start godz. 15.00 Pergola\, ul Wystawowa 1\, Wrocław\n3-Majówka 201
 9 - Dzień III\nTARJA TURUNEN\, HAPPYSAD\, ŁĄKI ŁAN...\n\nbilety 1.05: 
 75 zł - do 15.02.19\nbilety 2.05: 69 zł - do 15.02.19\nbilety 3.05: 69 z
 ł - do 15.02.19\nkarnety 1-3.05: 135 zł - do 15.02.19\nkarnety 1-2.05: 1
 05 zł - do 15.02.19\nkarnety 2-3.05: 105 zł - do 15.02.19\n\nBilety dost
 ępne w sieci salonów Empik i MediaMarkt w całej Polsce\noraz w serwisac
 h: www.wrockfest.pl/bilety-online/\, www.biletin.pl\, www.eventim.pl\, www
 .ebilet.pl\, www.kupbilecik.pl\, www.empikbilety.pl\n\nUwaga\, kupuj bilet
 y wyłącznie w autoryzowanych punktach! \nZakup biletów poza autoryzowan
 ymi punktami sprzedaży (Facebook\, aukcje internetowe\, systemy odsprzeda
 ży biletów itp.) stwarza ryzyko zakupu biletów nieoryginalnych lub niew
 ażnych\, które nie umożliwią wejścia na koncert.
ATTACH;FMTTYPE=image/jpeg:https://night4u.pl/wp-content/uploads/2019/02/20
 009_image_46092889_2176546069023268_906052256221102080_o.jpg
CATEGORIES:dolnośląskie
LOCATION:3-majówka\, ul. Wystawowa 1\, Wroclaw\, 51-618\, Poland
GEO:51.107658;17.077922
X-APPLE-STRUCTURED-LOCATION;VALUE=URI;X-ADDRESS=ul. Wystawowa 1\, Wroclaw\,
  51-618\, Poland;X-APPLE-RADIUS=100;X-TITLE=3-majówka:geo:51.107658,17.07
 7922
END:VEVENT
BEGIN:VTIMEZONE
TZID:Europe/Warsaw
X-LIC-LOCATION:Europe/Warsaw
BEGIN:DAYLIGHT
DTSTART:20190331T030000
TZOFFSETFROM:+0100
TZOFFSETTO:+0200
TZNAME:CEST
END:DAYLIGHT
END:VTIMEZONE
END:VCALENDAR