BEGIN:VCALENDAR
VERSION:2.0
PRODID:-//wp-events-plugin.com//7.2.3.1//EN
TZID:Europe/Warsaw
X-WR-TIMEZONE:Europe/Warsaw
BEGIN:VEVENT
UID:26797@night4u.pl
DTSTART;TZID=Europe/Warsaw:20190914T220000
DTEND;TZID=Europe/Warsaw:20190915T040000
DTSTAMP:20190906T185141Z
URL:https://night4u.pl/wydarzenia/3-urodziny-disco-na-deptaku/
SUMMARY:3 urodziny Disco na Deptaku!
DESCRIPTION:To już nasze 3 urodziny! Przybywajcie na najlepszą imprezę d
 rugiej połowy tego roku. Zagra wasz ulubiony Dr Robo. \n\nPrzygotujcie si
 ę na mocne uderzenie w rytmie disco\, hitów lat 70.\,80 i 90.\, nie zabr
 aknie również współczesnych\, tanecznych kawałków. Zostań Królem p
 arkietu wspólnie z Nami w najbardziej wyluzowanym lokalu w mieście. Daj 
 się porwać zabawie w przystępnej cenie.  \n\nOficjalny partner: Radio Z
 łote Przeboje\n\nSOBOTY/SATURDAYS\ngodz. 22.00\n\nCENNIK WSTĘPU:\n? Pani
 e - 10 zł\n? Panowie - 15 zł \n\n☎ telefoniczna rezerwacje loży i sto
 lików - 795 58 88 44\n\n✅ rezerwacje są bezpłatne - minimalne zamówi
 enie u kelnerki dla stolików to 100\,00 PLN\, dla loży w soboty to 200\,
 00 PLN. Zachęcamy do składania rezerwacji z wyprzedzeniem. \n\n*polecamy
  naszą kuchnię ! zamówienia: info@discoszczecin.pl\n\nKlimat muzyczny w
  skrócie :) od Dr Robo\nhttp://bit.ly/2pwITba\n------------------\nDEPTAK
  BOGUSŁAWA\n/Byłe B-52/\nul. Ks. Bogusława X 8/1\n70-440 Szczecin
ATTACH;FMTTYPE=image/jpeg:https://night4u.pl/wp-content/uploads/2019/09/62
 495_image_69161650_2343585769043893_1389005952673382400_o.jpg
CATEGORIES:zachodniopomorskie
LOCATION:Disco na Deptaku\, ul. Ks. Bogusława X 8/1\, Szczecin\, 70-440\, 
 Poland
GEO:53.429722;14.543838
X-APPLE-STRUCTURED-LOCATION;VALUE=URI;X-ADDRESS=ul. Ks. Bogusława X 8/1\, 
 Szczecin\, 70-440\, Poland;X-APPLE-RADIUS=100;X-TITLE=Disco na Deptaku:geo
 :53.429722,14.543838
END:VEVENT
BEGIN:VTIMEZONE
TZID:Europe/Warsaw
X-LIC-LOCATION:Europe/Warsaw
BEGIN:DAYLIGHT
DTSTART:20190331T030000
TZOFFSETFROM:+0100
TZOFFSETTO:+0200
TZNAME:CEST
END:DAYLIGHT
END:VTIMEZONE
END:VCALENDAR