BEGIN:VCALENDAR
VERSION:2.0
PRODID:-//wp-events-plugin.com//7.2.3.1//EN
TZID:Europe/Warsaw
X-WR-TIMEZONE:Europe/Warsaw
BEGIN:VEVENT
UID:30205@night4u.pl
DTSTART;TZID=Europe/Warsaw:20191026T210000
DTEND;TZID=Europe/Warsaw:20191027T060000
DTSTAMP:20191026T230838Z
URL:https://night4u.pl/wydarzenia/3-urodziny-maski-x-malenda-x-skipek-x-mj
 -sax/
SUMMARY:3 Urodziny Maski x Malenda x Skipek x MJ.SAX
DESCRIPTION:I nadchodzi proszę Państwa ta piękna chwila\, którą celebr
 ować będziemy już trzeci raz! Urodziny naszej kochanej Maski! &lt\;3\n\
 nPiękne\, szalone trzy lata za nami. Setki wspomnień\, tysiące zdjęć\
 , wiele imprez\, których część z Was nie pamięta %. \nJeszcze niedawn
 o nas tu nie było a teraz to miejsce jest dla nas jak drugi dom. Niezmier
 nie się cieszymy\, że dla niektórych z Was również. Dlatego też najs
 erdeczniej zapraszamy wszystkich naszych dotychczasowych gości by wypić 
 wspólnie za to abyśmy trwali jak najdłużej i dalej tworzyli wspólnie 
 piękne wspomnienia!\n\nW tym wyjątkowym dniu na naszej scenie zagości c
 udowna i utalentowana Kasia Malenda\, błyskotliwy DJ Skipek i zwariowany 
 a nawet szalony MJ. Sax! Wsparciem dla nich będą nasi rezydenci: Marcin 
 S\, Rob Stan i Grouse\, bez których to miejsce by nie istniało.\n\nAle a
 le... to nie wszystko! Tej nocy zaskoczymy Was niejeden raz... bo przygoto
 waliśmy wiele nieoczekiwanych &quot\;akcji&quot\; :) \n\nNie możemy się
  doczekać i mamy nadzieję\, że Wy podejdziecie równie entuzjastycznie 
 do tego święta! \n\nPamiętajcie\, że możecie zarezerwować stolik on-
 line\nemenago.com/i/maskakielce\n\nKielce... Czekamy na Was &lt\;3
ATTACH;FMTTYPE=image/jpeg:https://night4u.pl/wp-content/uploads/2019/10/69
 688_image_71067383_2595255647208199_8659707379400572928_o.jpg
CATEGORIES:świętokrzyskie
LOCATION:MASKA Incognito Club\, Rynek 5\, Kielce\, 25-303\, Poland
GEO:50.871945;20.632092
X-APPLE-STRUCTURED-LOCATION;VALUE=URI;X-ADDRESS=Rynek 5\, Kielce\, 25-303\,
  Poland;X-APPLE-RADIUS=100;X-TITLE=MASKA Incognito Club:geo:50.871945,20.6
 32092
END:VEVENT
BEGIN:VTIMEZONE
TZID:Europe/Warsaw
X-LIC-LOCATION:Europe/Warsaw
BEGIN:DAYLIGHT
DTSTART:20190331T030000
TZOFFSETFROM:+0100
TZOFFSETTO:+0200
TZNAME:CEST
END:DAYLIGHT
BEGIN:STANDARD
DTSTART:20191027T020000
TZOFFSETFROM:+0200
TZOFFSETTO:+0100
TZNAME:CET
END:STANDARD
END:VTIMEZONE
END:VCALENDAR